BEGIN:VCALENDAR
VERSION:2.0
PRODID:-//wp-events-plugin.com//7.2.3.1//EN
TZID:Europe/Rome
X-WR-TIMEZONE:Europe/Rome
BEGIN:VEVENT
UID:31523@lazioeventi.com
DTSTART;TZID=Europe/Rome:20220723T213000
DTEND;TZID=Europe/Rome:20220723T233000
DTSTAMP:20220629T062712Z
URL:https://lazioeventi.com/eventi/il-salotti-musicali-2022-07-22
SUMMARY:Il Salotti Musicali - Latina - 23 Luglio 22 21:30
DESCRIPTION:L’Associazione Culturale Eleomai\, nasce a Latina nel 2014\, 
 per la volontà dei suoi soci fondatori con la mission di operare per la p
 romozione e la diffusione di attività culturali\, musicali\, didattiche\,
  della difesa dell’ambiente e delle pari opportunità. Sostenere e incen
 tivare la realizzazione di iniziative di natura sociale fondate sui valori
  della solidarietà e della mutualità. \nNon ha fini di lucro. \nHa opera
 to ininterrottamente fino ad oggi organizzando e collaborando alla realizz
 azione di oltre cento eventi in tutto il territorio nazionale.\n\nOrganizz
 a la manifestazione I Salotti Musicali – Summer Festival\, giunta alla s
 ua nona edizione\, che ha visto impegnati in diverse location di Latina (G
 iardini del Palazzo del Comune\, sede del Consorzio di Bonifica dell’Agr
 o Pontino\, Campo Coni\, Circolo Cittadino\, Arena del Museo Cambellotti) 
 e della sua provincia artisti e generi musicali molto diversi tra loro\, t
 ra i quali si ricordano: Mario Biondi\, Massimo Ranieri\, Fabrizio Bosso\,
  Danilo Rea\, Tullio De Piscopo\, Gilles Apap\, Antonella Ruggiero\, Gino 
 Paoli\, Peppino Di Capri\, Andrea Bacchetti\, Floraleda Sacchi\, la Med Fr
 ee Orkestra\, Italia Migrante\, Simone Sala\, Tony Esposito\, i Doctor 3\,
  Antonio Sorgentone\, I Folk Road\; giovani musicisti come Riccardo e Andr
 ea Cellacchi\, Luigi Carroccia\, The Cinelli Brothers\, Quartetto Guadagni
 ni\, Alauda Quartet\; nuovi progetti come quello di Gabriele Baldocci dedi
 cato alle musiche dei Queen\, quello di Lillina Moliterno e Enzo Provenzan
 o su Maria Callas\, Made in Italy con Marco Lo Russo\, Maria Francesca Bar
 tolomucci e Giulio Vinci\, Un’Orchestra per Pino Daniele.
ATTACH;FMTTYPE=image/jpeg:https://lazioeventi.com/wp-content/uploads/2022/
 06/salotti-musicali-latina.jpg
CATEGORIES:Musica, Spettacoli e Danza nel Lazio
LOCATION:Latina\, Comune di Latina\, Latina\, Latina\, Lazio\, Italia
GEO:41.4674;12.9034
X-APPLE-STRUCTURED-LOCATION;VALUE=URI;X-ADDRESS=Comune di Latina\, Latina\,
  Latina\, Lazio\, Italia;X-APPLE-RADIUS=100;X-TITLE=Latina:geo:41.4674,12.
 9034
END:VEVENT
BEGIN:VTIMEZONE
TZID:Europe/Rome
X-LIC-LOCATION:Europe/Rome
BEGIN:DAYLIGHT
DTSTART:20220327T030000
TZOFFSETFROM:+0100
TZOFFSETTO:+0200
TZNAME:CEST
END:DAYLIGHT
END:VTIMEZONE
END:VCALENDAR