BEGIN:VCALENDAR
VERSION:2.0
PRODID:-//wp-events-plugin.com//7.2.3.1//EN
TZID:Europe/Rome
X-WR-TIMEZONE:Europe/Rome
BEGIN:VEVENT
UID:32996@lazioeventi.com
DTSTART;TZID=Europe/Rome;VALUE=DATE:20221112
DTEND;TZID=Europe/Rome;VALUE=DATE:20221128
DTSTAMP:20221110T084323Z
URL:https://lazioeventi.com/eventi/il-salvatore-nasce-a-jenne
SUMMARY:Il “Salvatore” nasce a Jenne - Jenne - 12 Novembre 22 00:00
DESCRIPTION:Grande attesa nella perla della Valle Aniene per l’edizione s
 peciale del Presepe Vivente 2022. \n\nQuest’anno rappresentazione partec
 ipativa con coinvolgimento diretto nelle fasi di predisposizione scenograf
 ica di un evento destinato ad entrare nel cassetto dei ricordi indelebili 
 per la vita del borgo. L’amministrazione comunale\, unitamente alla Pro 
 Loco\,  propone dunque un format che è stato affidato alla professionalit
 à degli autori televisivi Paolo Logli e Paola Tavella\, i quali hanno ide
 ato questo evento unico nel suo genere.\n\n“Jenne da sempre è stato car
 atterizzato dal Presepe Vivente –  spiega il sindaco Giorgio Pacchiarott
 i –  nella storia locale si sono ripetute edizioni vissute con grande en
 tusiasmo e partecipazione massiva con pubblico intervenuto da ogni dove. D
 opo lo stop causato dalla pandemia ora Jenne è di nuovo protagonista e qu
 est’anno in particolare accogliamo la nascita del Salvatore in grande st
 ile ed invitiamo tutti a partecipare”\n\nLa particolarità di questa edi
 zione speciale consiste nella partecipazione diretta di apprezzate e belli
 ssime artiste di chiara fama come Milena Miconi e Natalie Caldonazzo. \n\n
 Dal 12 novembre inoltre prenderanno il via i seminari di recitazione ed ar
 ti propedeutici alle Sacre rappresentazioni previste per il 27 Dicembre 20
 22 e per il 5 gennaio 2023.  Le scenografie saranno curate da Dario Vandel
 li per una esperienza che si preannuncia suggestiva e a dir poco spettacol
 are.\n\nSi può inoltre essere diretti protagonisti in questa edizione spe
 ciale\, frequentando un apposito corso gratuito predisposto per attori e f
 iguranti e che costituisce una occasione per vivere una esperienza unica\,
  ma anche per arricchirsi della formazione scenica e professionale offerta
  per questa occasione.\n\nL’edizione de “Il Salvatore nasce a Jenne”
  è dunque una occasione esperienziale ed affascinante da non perdere. \nD
 i seguito tutte le informazioni\, contatti per partecipare come parte atti
 va!
ATTACH;FMTTYPE=image/jpeg:https://lazioeventi.com/wp-content/uploads/2022/
 11/il-salvatore-nasce-a-jenne.jpg
CATEGORIES:Musica, Spettacoli e Danza nel Lazio
LOCATION:Jenne\, Comune\, Jenne\, Roma\, Lazio\, Italia
GEO:41.8876;13.1677
X-APPLE-STRUCTURED-LOCATION;VALUE=URI;X-ADDRESS=Comune\, Jenne\, Roma\, Laz
 io\, Italia;X-APPLE-RADIUS=100;X-TITLE=Jenne:geo:41.8876,13.1677
END:VEVENT
BEGIN:VTIMEZONE
TZID:Europe/Rome
X-LIC-LOCATION:Europe/Rome
BEGIN:STANDARD
DTSTART:20221030T020000
TZOFFSETFROM:+0200
TZOFFSETTO:+0100
TZNAME:CET
END:STANDARD
END:VTIMEZONE
END:VCALENDAR