BEGIN:VCALENDAR
VERSION:2.0
PRODID:-//wp-events-plugin.com//7.2.3.1//EN
TZID:Europe/Rome
X-WR-TIMEZONE:Europe/Rome
BEGIN:VEVENT
UID:43604@lazioeventi.com
DTSTART;TZID=Europe/Rome:20260127T183000
DTEND;TZID=Europe/Rome:20260127T220000
DTSTAMP:20260123T093051Z
URL:https://lazioeventi.com/eventi/il-viaggio-del-produttore-ce-ancora-dom
 ani
SUMMARY:Il Viaggio del Produttore - C’è ancora domani - Roma - 27 Gennai
 o 26 18:30
DESCRIPTION:Prosegue allo Spazio Scena di Roma il ciclo “Il viaggio del p
 roduttore”\, ideato e promosso dalla Scuola d'Arte Cinematografica Gian 
 Maria Volonté. Martedì 27 gennaio\, alle ore 18:30\, sarà protagonista 
 Mario Gianani\, produttore tra i più significativi del panorama italiano 
 e internazionale\, in un incontro aperto al pubblico\, condotto da Boris S
 ollazzo\, responsabile eventi della Scuola Volonté.\n\n \n\nL’iniziativ
 a\, giunta al suo terzo appuntamento\, propone una riflessione ampia e app
 assionata sul mestiere del produttore e sul suo ruolo chiave nella filiera
  creativa del cinema. Una figura che\, anche se si muove dietro le quinte\
 , è centrale nella nascita e nella realizzazione delle opere. Dialogando 
 con il pubblico\, Mario Gianani ripercorrerà le tappe fondamentali della 
 sua carriera\, condividendo esperienze\, aneddoti e visioni sul futuro del
 l’audiovisivo.\n\n \n\nTra i fondatori nel 2009 della casa di produzione
  Wildside insieme anche a Lorenzo Mieli\, Gianani ha prodotto alcune tra l
 e opere più rappresentative del cinema italiano degli ultimi vent’anni:
  dalla collaborazione con Marco Bellocchio per Vincere — che gli valse d
 ue candidature ai David di Donatello — ai lavori con Fausto Brizzi\, Pif
 \, Riccardo Milani\, Paola Cortellesi\, Saverio Costanzo\, Gabriele Salvat
 ores\, e tanti altri\, fino alla produzione della serie L’amica geniale\
 , tratta dai romanzi di Elena Ferrante e acclamata anche all’estero.\n\n
  \n\nIl pubblico avrà modo di conoscere da vicino il percorso di un produ
 ttore capace di muoversi con intelligenza e coraggio tra cinema d’autore
 \, commedia popolare e grandi produzioni internazionali\, con un occhio at
 tento al racconto del presente e ai mutamenti del mercato. Particolare att
 enzione sarà dedicata all’esperienza sul set di C’è ancora domani\, 
 film d’esordio alla regia di Paola Cortellesi e prodotto da Gianani insi
 eme a Lorenzo Gangarossa\, che sarà proiettato al termine dell’incontro
 .\n\n \n\nC’è ancora domani\, interpretato dalla stessa Cortellesi acca
 nto a Valerio Mastandrea\, Emanuela Fanelli e Romana Maggiora Vergano\, di
 plomata in Recitazione presso la Scuola Volonté\, racconta la storia di D
 elia\, madre e moglie nella Roma del 1946\, alla vigilia del referendum is
 tituzionale e delle prime elezioni a suffragio universale in Italia. In bi
 lico tra sottomissione e desiderio di riscatto\, Delia compie un percorso 
 intimo e politico che è diventato simbolo di un’urgenza collettiva: rac
 contare le radici storiche e culturali della violenza di genere e del patr
 iarcato\, parlando al presente con uno sguardo limpido e coinvolgente.\n\n
  \n\nOltre al successo di pubblico\, il film ha ricevuto un’accoglienza 
 entusiasta dalla critica e numerosi riconoscimenti. Alla cerimonia dei Dav
 id di Donatello 2024 ha conquistato sei premi\, tra cui Miglior regista es
 ordiente e Miglior attrice protagonista a Paola Cortellesi\, Miglior attri
 ce non protagonista a Emanuela Fanelli\, Migliore sceneggiatura originale\
 , il David Giovani e il David dello Spettatore. Con 19 candidature totali\
 , è il film d’esordio con il maggior numero di nomination nella storia 
 del premio.\n\nTra gli altri numerosi riconoscimenti\, si ricordano anche 
 il Nastro d’Argento come Film dell’Anno\, il Globo d’Oro al Miglior 
 Film\, il Premio del Pubblico al Festival del Cinema di Göteborg\, e la p
 artecipazione in concorso alla Festa del Cinema di Roma\, dove ha ricevuto
  il Premio Speciale della Giuria e una menzione speciale per la Migliore O
 pera Prima. Il film è stato inoltre distribuito con successo in Francia\,
  Regno Unito\, Germania\, Cina e Stati Uniti\, raccogliendo consensi anche
  dalla critica internazionale.\n\n \n\nMa C’è ancora domani non è stat
 o solo un successo cinematografico. Il film ha avuto un impatto culturale 
 e sociale profondo\, diventando oggetto di proiezioni nelle scuole\, dibat
 titi pubblici\, campagne di sensibilizzazione contro la violenza sulle don
 ne. Ha contribuito a riaccendere\, con forza e delicatezza\, il dibattito 
 sui diritti\, sulla memoria e sull’eredità delle lotte femminili. Un’
 opera che ha saputo restituire al cinema italiano una funzione civile\, po
 polare e necessaria.\n\n \n\nL’ingresso è libero fino a esaurimento pos
 ti.\n \n\nLa Scuola d’Arte Cinematografica Gian Maria Volonté è un C
 entro di formazione professionale della Regione Lazio\, dedicato alle prof
 essioni del cinema. Il percorso formativo triennale\, gratuito\, è cofina
 nziato dal Fondo Sociale Europeo e gestito tramite convenzione dalla socie
 tà regionale LAZIOcrea S.p.A.\n\n \n\nScuola d’Arte Cinematografica Gia
 n Maria Volonté\nVia Greve\, 61 – 00146 Roma – +39 06 6766 4893\nLarg
 o Ascianghi\, 5 – 00153 Roma\nsegreteria@scuolavolonte.it\n\nSito uffici
 ale:\nwww.scuolavolonte.it
ATTACH;FMTTYPE=image/jpeg:https://lazioeventi.com/wp-content/uploads/2026/
 01/1-4.jpg
CATEGORIES:Arte e Cultura nel Lazio,Musica, Spettacoli e Danza nel Lazio
LOCATION:Roma\, Via Leopardi\, Roma\, Roma\, Lazio\, Italia
GEO:41.8942;12.5017
X-APPLE-STRUCTURED-LOCATION;VALUE=URI;X-ADDRESS=Via Leopardi\, Roma\, Roma\
 , Lazio\, Italia;X-APPLE-RADIUS=100;X-TITLE=Roma:geo:41.8942,12.5017
END:VEVENT
BEGIN:VTIMEZONE
TZID:Europe/Rome
X-LIC-LOCATION:Europe/Rome
BEGIN:STANDARD
DTSTART:20251026T020000
TZOFFSETFROM:+0200
TZOFFSETTO:+0100
TZNAME:CET
END:STANDARD
END:VTIMEZONE
END:VCALENDAR