BEGIN:VCALENDAR
VERSION:2.0
PRODID:-//wp-events-plugin.com//7.2.3.1//EN
TZID:Europe/Rome
X-WR-TIMEZONE:Europe/Rome
BEGIN:VEVENT
UID:30198@lazioeventi.com
DTSTART;TZID=Europe/Rome:20220402T103000
DTEND;TZID=Europe/Rome:20220403T130000
DTSTAMP:20220322T082929Z
URL:https://lazioeventi.com/eventi/il-viaggio-di-dante-in-ciociaria-6-2022
 -04-02
SUMMARY:Il viaggio di Dante in Ciociaria - Cassino - 2 Aprile 22 10:30
DESCRIPTION:Un percorso alla scoperta di un patrimonio artistico e cultural
 e unico\, da conoscere e preservare\, nell’ambito dell’iniziativa real
 izzata con il contributo della Regione Lazio: le visite\, a cura di guide 
 turistiche professioniste\, ripercorreranno la storia dei luoghi ed eviden
 zieranno i motivi che essi rappresentano per la figura del Sommo Poeta.\n\
 nTante le iniziative previste\, gratuite per i partecipanti e rese possibi
 li grazie al contributo della Regione Lazio: tra queste\, visite guidate\,
  interpreti lis\, degustazioni di prodotti tipici\, escursioni\, spettacol
 i di sbandieratori\, figuranti e molto altro.\n\nDi seguito\, il programma
  dei restanti incontri previsti nei prossimi fine settimana\; per informaz
 ioni e prenotazioni vi consigliamo di contattare la Pro Loco di Anagni al 
 numero 0775727852\, tutti i giorni\, dalle 10.30 alle 13.00.\n\nSabato 26 
 marzo\nAnagni – Visite guidate (mattina e pomeriggio)\, degustazioni di 
 prodotti tipici\nFumone – Visite guidate (mattina)\nPatrica – Visite g
 uidate (mattina)\nCeprano – Visite guidate (mattina)\nSettefrati – Vis
 ite guidate (mattina)\nAbbazia di Montecassino – Visite guidate (mattina
 )\n\nDomenica 27 marzo\nAnagni – Visite guidate (mattina e pomeriggio)\,
  degustazioni di prodotti tipici\nFumone – Visite guidate (mattina)\nPat
 rica – Visite guidate (mattina)\nCeprano – Visite guidate (mattina)\, 
 interpreti LIS\nSettefrati – Visite guidate (mattina)\nAbbazia di Montec
 assino – Visite guidate (mattina)\n\nSabato 2 aprile\nAnagni – Visite 
 guidate (mattina e pomeriggio)\, degustazioni di prodotti tipici\nFumone 
 – Visite guidate (mattina)\nPatrica – Visite guidate (mattina)\nCepran
 o – Visite guidate (mattina)\nSettefrati – Visite guidate (mattina)\nA
 bbazia di Montecassino – Visite guidate (mattina)\nMonte Cacume – escu
 rsione (mattina)\n\nDomenica 3 aprile\nAnagni – Visite guidate (mattina 
 e pomeriggio)\, degustazioni di prodotti tipici\nFumone – Visite guidate
  (mattina)\nPatrica – Visite guidate (mattina)\nCeprano – Visite guida
 te (mattina)\nSettefrati – Visite guidate (mattina)\nAbbazia di Montecas
 sino – Visite guidate (mattina)\n\nSabato 9 aprile\nAnagni – Visite gu
 idate (mattina e pomeriggio)\, degustazioni di prodotti tipici\nFumone –
  Visite guidate (mattina)\nPatrica – Visite guidate (mattina)\nCeprano 
 – Visite guidate (mattina)\nSettefrati – Visite guidate (mattina)\nAbb
 azia di Montecassino – Visite guidate (mattina)\nMonte Cacume – escurs
 ione (mattina)\n\nDomenica 10 aprile\nAnagni – Visite guidate (mattina e
  pomeriggio)\, degustazioni di prodotti tipici\nFumone – Visite guidate 
 (mattina)\nPatrica – Visite guidate (mattina)\nCeprano – Visite guidat
 e (mattina)\nSettefrati – Visite guidate (mattina)\nAbbazia di Montecass
 ino – Visite guidate (mattina)\nMonte Cacume – escursione (mattina)
ATTACH;FMTTYPE=image/jpeg:https://lazioeventi.com/wp-content/uploads/2022/
 03/dante-ciociaria.jpg
CATEGORIES:Arte e Cultura nel Lazio
LOCATION:Cassino\, Comune di Cassino\, Cassino\, Frosinone\, Lazio\, Italia
GEO:41.4929518;13.830372300000022
X-APPLE-STRUCTURED-LOCATION;VALUE=URI;X-ADDRESS=Comune di Cassino\, Cassino
 \, Frosinone\, Lazio\, Italia;X-APPLE-RADIUS=100;X-TITLE=Cassino:geo:41.49
 29518,13.830372300000022
END:VEVENT
BEGIN:VTIMEZONE
TZID:Europe/Rome
X-LIC-LOCATION:Europe/Rome
BEGIN:DAYLIGHT
DTSTART:20220327T030000
TZOFFSETFROM:+0100
TZOFFSETTO:+0200
TZNAME:CEST
END:DAYLIGHT
END:VTIMEZONE
END:VCALENDAR