BEGIN:VCALENDAR
VERSION:2.0
PRODID:-//wp-events-plugin.com//7.2.3.1//EN
TZID:Europe/Rome
X-WR-TIMEZONE:Europe/Rome
BEGIN:VEVENT
UID:34229@lazioeventi.com
DTSTART;TZID=Europe/Rome:20230308T180000
DTEND;TZID=Europe/Rome:20230308T200000
DTSTAMP:20230222T231723Z
URL:https://lazioeventi.com/eventi/il-western-e-la-nascita-del-mito-americ
 ano
SUMMARY:Il Western e la nascita del mito americano - Roma - 8 Marzo 23 18:0
 0
DESCRIPTION:“Il Western ha formato l’identità nazionale americana come
  nessun’altra opera d’arte\, è divenuto parte del DNA culturale e spi
 rituale dell’America. Nessuno dovrebbe ridurre l’America ai suoi cowbo
 y\, tuttavia nessuno può comprenderla senza di loro. Il Western è la tel
 a sulla quale le ideologie dell’America sono state disegnate e poi discu
 sse\, divulgate e anche scartate”.\n\nCon il supporto di proiezioni di b
 rani di film\, più o meno conosciuti\, Wilfried Leichert spiega l’impor
 tanza e l’influenza del Western nella cultura e nel quadro politico amer
 icano di oggi\, analizzando gli elementi costitutivi del mito americano co
 sì come sono interpretati in questo genere cinematografico. Il Western cl
 assico non narra solo la “Vittoria dell’Occidente”\, in modo stereot
 ipato e trionfalistico\, affronta altresì i punti più conflittuali della
  storia. Le questioni di genere\, il razzismo e componenti della politica 
 contemporanea sono già tutti presenti nel Western classico.\n\n \n\nMatem
 atico e sinologo\, Wilfried Leichert è nato a Bielefeld\, in Germania\, 
 e ha svolto gran parte della sua carriera di studioso\, economista e uomo 
 d’affari all’estero\, in posizioni dirigenziali per aziende multinazio
 nali\, in particolare in Cina\, Svizzera\, Ungheria\, e Stati Uniti. In Gi
 appone ha lavorato come console per le relazioni economiche. Appassionato 
 di cinema\, e soprattutto di Western\, ha studiato a fondo l’argomento\,
  scritto saggi e tenuto conferenze nei circoli cinematografici di Berlino 
 e anche all’Università di Pechino e all’Istituto Italiano di Cultura
  di Pechino.\n\nIl Western e la nascita del mito americano\ndi Wilfried Le
 ichert\n\nIngresso libero
ATTACH;FMTTYPE=image/jpeg:https://lazioeventi.com/wp-content/uploads/2023/
 02/western.jpg
CATEGORIES:Musica, Spettacoli e Danza nel Lazio,Arte e Cultura nel Lazio
LOCATION:Roma\, Via Leopardi\, Roma\, Roma\, Lazio\, Italia
GEO:41.8942;12.5017
X-APPLE-STRUCTURED-LOCATION;VALUE=URI;X-ADDRESS=Via Leopardi\, Roma\, Roma\
 , Lazio\, Italia;X-APPLE-RADIUS=100;X-TITLE=Roma:geo:41.8942,12.5017
END:VEVENT
BEGIN:VTIMEZONE
TZID:Europe/Rome
X-LIC-LOCATION:Europe/Rome
BEGIN:STANDARD
DTSTART:20221030T020000
TZOFFSETFROM:+0200
TZOFFSETTO:+0100
TZNAME:CET
END:STANDARD
END:VTIMEZONE
END:VCALENDAR