BEGIN:VCALENDAR
VERSION:2.0
PRODID:-//wp-events-plugin.com//7.2.3.1//EN
TZID:Europe/Rome
X-WR-TIMEZONE:Europe/Rome
BEGIN:VEVENT
UID:25738@lazioeventi.com
DTSTART:20211127T160000Z
DTEND:20211127T193000Z
DTSTAMP:20211123T111543Z
URL:https://lazioeventi.com/eventi/inaugurazione-de-la-valle-del-primo-pre
 sepe
SUMMARY:Inaugurazione de La Valle del Primo Presepe - Rieti - 27 Novembre 2
 1 17:00
DESCRIPTION:La Valle del Primo Presepe: un itinerario di fede\, arte e spir
 itualità alla riscoperta della tradizione cristiana.\nPresentata in confe
 renza stampa la quinta edizione della Valle del Primo Presepe\, manifestaz
 ione voluta dalla Chiesa di Rieti per valorizzare l’intuizione francesca
 na della Natività di Greccio.\nEvento inaugurale\nore 17 Teatro Flavio Ve
 spasiano\n“Seguendo la Stella”\n\nSi esibiranno Ron\, Jessica Morlac
 chi e la soprano Vittoriana De Amicis\, accompagnati dagli Allievi del 
 Liceo Musicale “Elena Principessa di Napoli” con l’amichevole parte
 cipazione del M° Leonardo De Amicis.\n\nConduce la serata Lorena Bianch
 etti. Claudia Campagnola proporrà testi originali di Paolo Logli.\n\nL
 ’evento è gratuito fino a esaurimento posti\, previa prenotazione press
 o il Botteghino del Teatro aperto nei giorni 25 e 26 novembre con i seguen
 ti orari: 10-13 e 16-19.\n\nPer partecipare sono obbligatori Green Pass e 
 mascherina. Tutti i partecipanti dovranno essere inoltre tracciati come d
 a protocollo anti-covid.
ATTACH;FMTTYPE=image/jpeg:https://lazioeventi.com/wp-content/uploads/2019/
 11/ron-2.jpg
CATEGORIES:Musica, Spettacoli e Danza nel Lazio
LOCATION:Rieti\, Comune di Rieti\, Rieti\, Rieti\, Lazio\, Italia
GEO:42.403;12.8609
X-APPLE-STRUCTURED-LOCATION;VALUE=URI;X-ADDRESS=Comune di Rieti\, Rieti\, R
 ieti\, Lazio\, Italia;X-APPLE-RADIUS=100;X-TITLE=Rieti:geo:42.403,12.8609
END:VEVENT
END:VCALENDAR