BEGIN:VCALENDAR
VERSION:2.0
PRODID:-//wp-events-plugin.com//7.2.3.1//EN
TZID:Europe/Rome
X-WR-TIMEZONE:Europe/Rome
BEGIN:VEVENT
UID:40446@lazioeventi.com
DTSTART;TZID=Europe/Rome:20251220T180000
DTEND;TZID=Europe/Rome:20251220T200000
DTSTAMP:20251219T101920Z
URL:https://lazioeventi.com/eventi/incanto-di-natale
SUMMARY:Incanto di Natale - Veroli - 20 Dicembre 25 18:00
DESCRIPTION:Sabato 20 dicembre\, al Teatro Comunale Veroli\, ci sarà il pr
 imo di tre appuntamenti musicali in cartellone\, una novità di questa sta
 gione che arricchisce la programmazione con un percorso dedicato alla musi
 ca dal vivo: "Incanto di Natale". Come non iniziare questa stagione musica
 le in un periodo magico e suggestivo come il Natale? L'atmosfera natalizia
  riempie i cuori di calore e amore e la musica è la giusta colonna sonora
  per accompagnare questo momento.\n\nL'Orion Trio composto dal soprano Ori
 etta Manente\, dal flauto traverso Francesco Polletta e dal pianoforte Lui
 gi Mastracci\, offre al pubblico un concerto imperdibile e straordinariame
 nte emozionante. L'intreccio tra la voce avvolgente della cantante\, le so
 norità cristalline del flauto e l'eleganza del pianoforte crea un'atmosfe
 ra unica\, capace di evocare emozioni intime\, spiritualità e gioia. Un'e
 sperienza musicale raffinata e coinvolgente pensata per incantare e accomp
 agnare l'ascoltatore nello spirito più autentico delle festività.\n\nI b
 rani proposti sono i grandi classici della tradizione natalizia che sono i
 ntramontabili e colpiscono il cuore di grandi e piccini\, perché la gioia
  del Natale avvolge tutti e la musica\, come linguaggio universale\, è ca
 pace di unire tutti in un unico coro di anime.\n\nNon perdete questo strao
 rdinario appuntamento musicale per iniziare al meglio le festività natali
 zie! Vi aspettiamo sabato 20 dicembre alle ore 18.00 con apertura botteghi
 no alle ore 17.30.\n\n\nBIGLIETTO: € 10.00
ATTACH;FMTTYPE=image/jpeg:https://lazioeventi.com/wp-content/uploads/2024/
 12/incanto-di-natale-veroli.jpeg
CATEGORIES:Musica, Spettacoli e Danza nel Lazio
LOCATION:Veroli\, Comune di Veroli\, Veroli\, Frosinone\, Lazio\, Italia
GEO:41.6911;13.4178
X-APPLE-STRUCTURED-LOCATION;VALUE=URI;X-ADDRESS=Comune di Veroli\, Veroli\,
  Frosinone\, Lazio\, Italia;X-APPLE-RADIUS=100;X-TITLE=Veroli:geo:41.6911,
 13.4178
END:VEVENT
BEGIN:VTIMEZONE
TZID:Europe/Rome
X-LIC-LOCATION:Europe/Rome
BEGIN:STANDARD
DTSTART:20251026T020000
TZOFFSETFROM:+0200
TZOFFSETTO:+0100
TZNAME:CET
END:STANDARD
END:VTIMEZONE
END:VCALENDAR