BEGIN:VCALENDAR
VERSION:2.0
PRODID:-//wp-events-plugin.com//7.2.3.1//EN
TZID:Europe/Rome
X-WR-TIMEZONE:Europe/Rome
BEGIN:VEVENT
UID:41701@lazioeventi.com
DTSTART;TZID=Europe/Rome;VALUE=DATE:20250711
DTEND;TZID=Europe/Rome;VALUE=DATE:20250714
DTSTAMP:20250528T091958Z
URL:https://lazioeventi.com/eventi/incastro-festival
SUMMARY:Incastro Festival - Grotte di Castro - 11 Luglio 25 00:00
DESCRIPTION:Festival del pensare\n\nPensare\, sappiamo davvero farlo? Quant
 e scelte personali\, sociali\, politiche potrebbero migliorare la nostra v
 ita se solo si usasse il pensiero. \nMa "cosa" è esattamente pensare? Il 
 festival mira a promuovere il pensiero critico\, la consapevolezza dei bia
 s cognitivi\, la capacità di leggere i dati e dar loro valore. \n\nL'anal
 fabetismo crescente e la comunicazione tramite spot limitano la capacità 
 di discernimento. \n\nLa disinformazione causa speculazioni finanziarie\, 
 comportamenti devianti\, razzismo\, interferenze politiche\, intolleranza\
 , truffe commerciali\, abuso della credulità e danni alla salute. \n\nIl 
 programma in locandina
ATTACH;FMTTYPE=image/jpeg:https://lazioeventi.com/wp-content/uploads/2025/
 05/incastro-festival.jpg
CATEGORIES:Arte e Cultura nel Lazio,Musica, Spettacoli e Danza nel Lazio
LOCATION:Grotte di Castro\, Comune di Grotte di Castro\, Grotte di Castro\,
  Viterbo\, Lazio\, Italia
GEO:42.6749;11.8696
X-APPLE-STRUCTURED-LOCATION;VALUE=URI;X-ADDRESS=Comune di Grotte di Castro\
 , Grotte di Castro\, Viterbo\, Lazio\, Italia;X-APPLE-RADIUS=100;X-TITLE=G
 rotte di Castro:geo:42.6749,11.8696
END:VEVENT
BEGIN:VTIMEZONE
TZID:Europe/Rome
X-LIC-LOCATION:Europe/Rome
BEGIN:DAYLIGHT
DTSTART:20250330T030000
TZOFFSETFROM:+0100
TZOFFSETTO:+0200
TZNAME:CEST
END:DAYLIGHT
END:VTIMEZONE
END:VCALENDAR