BEGIN:VCALENDAR
VERSION:2.0
PRODID:-//wp-events-plugin.com//7.2.3.1//EN
TZID:Europe/Rome
X-WR-TIMEZONE:Europe/Rome
BEGIN:VEVENT
UID:33957@lazioeventi.com
DTSTART;TZID=Europe/Rome:20230329T163000
DTEND;TZID=Europe/Rome:20230329T183000
DTSTAMP:20230131T081852Z
URL:https://lazioeventi.com/eventi/incontri-a-montefiascone-2023-03-29
SUMMARY:Incontri a Montefiascone - Montefiascone - 29 Marzo 23 16:30
DESCRIPTION:Centro di Iniziative Culturali di Montefiascone vi invita al ci
 clo Incontri che si terrà tutti i mercoledì nella Sala Conferenze della 
 Biblioteca comunale.\n\nEcco il programma:\n\nGENERARE NELLA BELLEZZA\nEro
 s\, il bene e la felicità nel Simposio di Platone\nLUCIANO DOTTARELLI - d
 ocente di discipline filosofiche\nMERCOLEDÌ 1 FEBBRAIO - ore 16\,30\n\nDO
 MENICO TIBURZI\nbrigantaggio e giustizia penale in Maremma\nSARA VOLPI - d
 elegata alla cultura del comune di Marta\nMERCOLEDÌ 8 FEBBRAIO - ore 17\,
 00\n\nPASOLINI E LA TUSCIA\nROSELLA LISONI - scrittrice\nMERCOLEDÌ 15 FEB
 BRAIO - ore 16\,30\n\nSOLO UNA VITA\nla strega di Viterbo\nELISABETTA VENT
 URA - scrittrice\nMERCOLEDÌ 22 FEBBRAIO - ore 16\,30\n\nESSERE ETRUSCO\nm
 iti e misteri ieri e oggi\nBARBRO SANTILLO FRIZELL - archeologa e scrittri
 ce\nMERCOLEDÌ 1 MARZO - ore 16\,30\n\nCONOSCI IL GRECO E NON LO SAI\ngli 
 avventurosi viaggi delle parole\nELETTRA DE MARIA - classicista scrittrice
 \nMERCOLEDÌ 8 MARZO - ore 17\,00\n\nEUTANASIA E FINE VITA\nnon solo un pr
 oblema etico\nCARLO MARIA SCIPIO - procuratore della repubblica\nMERCOLED
 Ì 15 MARZO - ore 16\,30\n\nDALLA MONODIA ALLA POLIFONIA\nstoria di un cam
 biamento\nLUCILLA SCIPIONI - musicologa\nMERCOLEDÌ 22 MARZO - ore 16\,30\
 n\nL’ARIA CHE RESPIRIAMO\nARIANNA MARINELLI - ingegnere per l'ambiente e
  il territorio\nMERCOLEDÌ 29 MARZO - ore 16\,30
ATTACH;FMTTYPE=image/jpeg:https://lazioeventi.com/wp-content/uploads/2023/
 01/incontri-montefiascone.jpg
CATEGORIES:Arte e Cultura nel Lazio
LOCATION:Montefiascone\, Comune\, Montefiascone\, Viterbo\, Lazio\, Italia
GEO:42.5378;12.0302
X-APPLE-STRUCTURED-LOCATION;VALUE=URI;X-ADDRESS=Comune\, Montefiascone\, Vi
 terbo\, Lazio\, Italia;X-APPLE-RADIUS=100;X-TITLE=Montefiascone:geo:42.537
 8,12.0302
END:VEVENT
BEGIN:VTIMEZONE
TZID:Europe/Rome
X-LIC-LOCATION:Europe/Rome
BEGIN:DAYLIGHT
DTSTART:20230326T030000
TZOFFSETFROM:+0100
TZOFFSETTO:+0200
TZNAME:CEST
END:DAYLIGHT
END:VTIMEZONE
END:VCALENDAR