BEGIN:VCALENDAR
VERSION:2.0
PRODID:-//wp-events-plugin.com//7.2.3.1//EN
TZID:Europe/Rome
X-WR-TIMEZONE:Europe/Rome
BEGIN:VEVENT
UID:42652@lazioeventi.com
DTSTART;TZID=Europe/Rome:20251012T110000
DTEND;TZID=Europe/Rome:20251012T170000
DTSTAMP:20251003T105614Z
URL:https://lazioeventi.com/eventi/incontri-di-natura-2025-10-05-2025-10-1
 2
SUMMARY:Incontri di Natura - Roma - 12 Ottobre 25 11:00
DESCRIPTION:Domenica 5\, 12 e 19 ottobre 2025 al Bioparco di Roma saranno o
 rganizzati gli ’Incontri di natura’\, attività e laboratori interatti
 vi in sei postazioni dislocate nei 17 ettari del parco.\n\nL'iniziativa - 
 che si svolge dalle ore 11.00 alle 17.00 - ha lo scopo di permettere ai vi
 sitatori di incontrare la natura nelle sue molteplici forme\, focalizzando
  l’attenzione sulle fragilità.\n\nLe postazioni nel dettaglio: in “Ec
 osistemi in equilibrio’ è presente una torre di mattoncini in equilibri
 o tra loro per capire quanto gli ecosistemi siano delicati. Ogni volta che
  si sottrae un mattoncino si rischia di far crollare tutto.\n\nNella stazi
 one ‘Predatori della notte’ si potranno osservare da vicino piume\, pe
 nne\, crani\, uova\, usare una speciale macchina didattica per scoprire co
 me vedono gli uccelli ed evidenziare le caratteristiche e gli adattamenti 
 di prede e predatori.\n\nIn 'Denti sorprendenti’ saranno messi a confron
 to i crani di diverse specie e gli adattamenti alle diverse diete. La post
 azione ‘Chi l’ha fatta?’ è invece dedicata ai reperti che si trovan
 o in natura\, con particolare riferimento agli escrementi della fauna ital
 iana.\n\n‘Dalle api al miele’ descrive la frenetica attività di un al
 veare\, con i ruoli specifici all’interno della comunità\, e il comples
 so modo di comunicare di questo affascinante insetto sociale.\n\nParticola
 re attenzione è rivolta ai bambini più piccoli nella postazione ‘Le st
 agioni dell’orso’\, dedicata al grande mammifero che popola anche le n
 ostre montagne\, dove si troverà un tabellone e tanti disegni da posizion
 are per scoprire la dieta differenziata del plantigrado in ogni stagione.\
 n\nNel corso delle giornate\, infine\, si potrà visitare l’esposizione 
 Plasticocene\, allestita nella Sala degli elefanti. La mostra è costituit
 a da installazioni artistiche accompagnate da pannelli informativi sulla s
 alvaguardia dell’ambiente acquatico e marino. Gli argomenti trattati spa
 ziano dalla nascita della plastica\, al suo riuso e riciclo\, passando per
  la tropicalizzazione dei mari causata dai cambiamenti climatici\, analizz
 ando tematiche come la sovrapesca e l’invasione delle specie aliene\, co
 n focus sull’inquinamento da plastiche e microplastiche. La rassegna è 
 ideata e curata dall’artista divulgatrice Elisabetta Milan\, con il supp
 orto scientifico del WWF Area Marina Protetta di Miramare.\n\nLe attività
  della giornata sono comprese nel costo del biglietto di ingresso.\n\nMagg
 iori info su bioparco.it\n\nSeguici su Facebook: Bioparco di Roma e Instag
 ram: @bioparcoroma   \n\nCredit foto: Massimiliano Di Giovanni – archivi
 o Bioparco\n
ATTACH;FMTTYPE=image/jpeg:https://lazioeventi.com/wp-content/uploads/2025/
 10/Marrone.jpg
CATEGORIES:Arte e Cultura nel Lazio,Varie
LOCATION:Roma\, Via Leopardi\, Roma\, Roma\, Lazio\, Italia
GEO:41.8942;12.5017
X-APPLE-STRUCTURED-LOCATION;VALUE=URI;X-ADDRESS=Via Leopardi\, Roma\, Roma\
 , Lazio\, Italia;X-APPLE-RADIUS=100;X-TITLE=Roma:geo:41.8942,12.5017
END:VEVENT
BEGIN:VTIMEZONE
TZID:Europe/Rome
X-LIC-LOCATION:Europe/Rome
BEGIN:DAYLIGHT
DTSTART:20250330T030000
TZOFFSETFROM:+0100
TZOFFSETTO:+0200
TZNAME:CEST
END:DAYLIGHT
END:VTIMEZONE
END:VCALENDAR