BEGIN:VCALENDAR
VERSION:2.0
PRODID:-//wp-events-plugin.com//7.2.3.1//EN
TZID:Europe/Rome
X-WR-TIMEZONE:Europe/Rome
BEGIN:VEVENT
UID:31848@lazioeventi.com
DTSTART;TZID=Europe/Rome:20220805T210000
DTEND;TZID=Europe/Rome:20220805T223000
DTSTAMP:20220802T151025Z
URL:https://lazioeventi.com/eventi/incontro-pasolini-musica-e-poesie
SUMMARY:Incontro Pasolini\, musica e poesie - Roma - 5 Agosto 22 21:00
DESCRIPTION:\nIn occasione dei 100 anni della nascita di Pier Paolo Pasolin
 i\, l’Associazione l’Alto e il Basso presenta “Incontro Pasolini”\
 , uno spettacolo che alternerà poesie del grande poeta friulano recitate 
 da Riccardo Pumpo e brani musicali eseguiti al violoncello dal maestro Fra
 ncesco Marini.\n\n\n\nL’appuntamento è per venerdì 5 agosto all’inte
 rno del giardino dello Spazio Eventi in via Antonio Bertoloni 45\, Parioli
 \, Roma.\nContributo di 7 euro.\n\n\n\nPosti limitati\, è obbligatoria la
  prenotazione 340.4167620 - 339.7471124\naltoeilbasso@gmail.com\n
ATTACH;FMTTYPE=image/jpeg:https://lazioeventi.com/wp-content/uploads/2022/
 08/Evento-Pasolini-corretto.jpg
CATEGORIES:Arte e Cultura nel Lazio
LOCATION:Roma\, Via Leopardi\, Roma\, Roma\, Lazio\, Italia
GEO:41.8942;12.5017
X-APPLE-STRUCTURED-LOCATION;VALUE=URI;X-ADDRESS=Via Leopardi\, Roma\, Roma\
 , Lazio\, Italia;X-APPLE-RADIUS=100;X-TITLE=Roma:geo:41.8942,12.5017
END:VEVENT
BEGIN:VTIMEZONE
TZID:Europe/Rome
X-LIC-LOCATION:Europe/Rome
BEGIN:DAYLIGHT
DTSTART:20220327T030000
TZOFFSETFROM:+0100
TZOFFSETTO:+0200
TZNAME:CEST
END:DAYLIGHT
END:VTIMEZONE
END:VCALENDAR