BEGIN:VCALENDAR
VERSION:2.0
PRODID:-//wp-events-plugin.com//7.2.3.1//EN
TZID:Europe/Rome
X-WR-TIMEZONE:Europe/Rome
BEGIN:VEVENT
UID:29859@lazioeventi.com
DTSTART;TZID=Europe/Rome:20220220T174500
DTEND;TZID=Europe/Rome:20220220T190000
DTSTAMP:20220214T110901Z
URL:https://lazioeventi.com/eventi/indagine-su-alda-merini
SUMMARY:Indagine su Alda Merini - Roma - 20 Febbraio 22 17:45
DESCRIPTION:"Indagine su Alda Merini: non fu mai una donna addomesticabile"
  è lo spettacolo teatrale che andrà in scena a Roma\, al Teatro Marconi
  (Viale Guglielmo Marconi\, 698/E) il giorno 20 Febbraio 2022 alle ore 1
 7.45. \n\nIl testo è l’adattamento dell’omonimo libro scritto da Ma
 rgherita Caravello\, adattato e portato in scena con la regia di Antonio 
 Nobili. Sul palco\, una inedita Giorgia Trasselli che darà corpo e voce
  alla poetessa dei navigli\, supportata in scena da Margherita Caravello i
 n veste di attrice e accompagnata dalle proiezioni su Alda Merini: un coro
  a tre voci per raccontare la verità di una donna che si sa\, non è mai 
 una sola.\n\nUno sguardo ravvicinato sulla poetessa più controversa e con
 divisa\, amata e citata da  un pubblico sempre più vasto ed eterogeneo.\
 n\n“Più bella della poesia è stata la mia vita”\, diceva Alda Merini
 \, ed è proprio dalla sua esperienza biografica che questa “Indagine su
  Alda Merini” ci accompagna attraverso l'esperienza del dolore e il suo 
 superamento\, i conflitti e le pacificazioni col suo tempo.\n\nPER INFO E 
 BIGLIETTI:  www.indaginesualdamerini.it- 3293550022
ATTACH;FMTTYPE=image/jpeg:https://lazioeventi.com/wp-content/uploads/2022/
 02/alda-merini.png
CATEGORIES:Musica, Spettacoli e Danza nel Lazio
LOCATION:Roma\, Via Leopardi\, Roma\, Roma\, Lazio\, Italia
GEO:41.8942;12.5017
X-APPLE-STRUCTURED-LOCATION;VALUE=URI;X-ADDRESS=Via Leopardi\, Roma\, Roma\
 , Lazio\, Italia;X-APPLE-RADIUS=100;X-TITLE=Roma:geo:41.8942,12.5017
END:VEVENT
BEGIN:VTIMEZONE
TZID:Europe/Rome
X-LIC-LOCATION:Europe/Rome
BEGIN:STANDARD
DTSTART:20211031T020000
TZOFFSETFROM:+0200
TZOFFSETTO:+0100
TZNAME:CET
END:STANDARD
END:VTIMEZONE
END:VCALENDAR