BEGIN:VCALENDAR
VERSION:2.0
PRODID:-//wp-events-plugin.com//7.2.3.1//EN
TZID:Europe/Rome
X-WR-TIMEZONE:Europe/Rome
BEGIN:VEVENT
UID:34409@lazioeventi.com
DTSTART;TZID=Europe/Rome:20230310T210000
DTEND;TZID=Europe/Rome:20230310T223000
DTSTAMP:20230307T145351Z
URL:https://lazioeventi.com/eventi/infanzia-felice
SUMMARY:Infanzia Felice - Priverno - 10 Marzo 23 21:00
DESCRIPTION:Un nuovo imperdibile appuntamento è in programma presso il Tea
 tro Comunale Gigi Proietti di Priverno\, con la stagione di prosa curata d
 al Comune di Priverno\, dall’ATCL – Circuito multidisciplinare del Laz
 io sostenuto da MIC – Ministero della Cultura e Regione Lazio\, e da Mat
 utateatro.\n\n\nVenerdì 10 febbraio\, alle ore 21\, andrà in scena lo sp
 ettacolo INFANZIA FELICE – Una fiaba per adulti\, scritto e interpretato
  da Antonella Questa\, che prosegue la sua ricerca sulla natura delle rela
 zioni umane\, scegliendo come tema l’educazione nell’infanzia.\n\n\nPa
 rtendo dal libro della Rutschky “Pedagogia Nera”\, una raccolta di sag
 gi e manuali sull’educazione\, pubblicati a partire dalla fine del mille
 seicento ai primi del secolo scorso\, l'autrice e attrice porta avanti un
 ’indagine per capire soprattutto cosa stia succedendo oggi che le regole
  della antica “pedagogia nera” sono ormai bandite sia in famiglia che 
 a scuola. Oggi che nelle aule non ci sono più banchi disposti rigidamente
  in un solo senso o cattedre rialzate\, che il maestro non usa più la bac
 chetta sulle dita e che i genitori si limitano alla sculacciata ogni tanto
  o al classico schiaffone per il quale “non è mai morto nessuno”.\n\n
 \nUna maestra un po’ rigida\, un gatto parlante\, dei bambini capriccios
 i e viziati\, una preside dedita all’aperitivo\, una madre in carriera e
  un principe con la coppola azzurra azzurra come il mare\, sono solo alcun
 i dei protagonisti di questa originale fiaba per adulti. Un viaggio\, anch
 e molto divertente\, all’interno della famiglia e della scuola di oggi\,
  cercando di capire dove affondino le radici della rabbia che anima la gue
 rra tra genitori e insegnanti e che spesso spinge i nostri bambini verso i
 l bullismo.\n\n\nPer informazioni e prenotazioni tel. 3286115020 - 3291099
 630\n\n\nBIGLIETTO INTERO 15 EURO\nBIGLIETTO RIDOTTO 13 EURO (over 65 e un
 der 18)
ATTACH;FMTTYPE=image/jpeg:https://lazioeventi.com/wp-content/uploads/2023/
 03/Infanzia-Felice-foto-di-Antonio-Ficai.jpg
CATEGORIES:Musica, Spettacoli e Danza nel Lazio
LOCATION:Priverno\, Comune di Priverno\, Priverno\, Latina\, Lazio\, Italia
GEO:41.4734;13.1817
X-APPLE-STRUCTURED-LOCATION;VALUE=URI;X-ADDRESS=Comune di Priverno\, Priver
 no\, Latina\, Lazio\, Italia;X-APPLE-RADIUS=100;X-TITLE=Priverno:geo:41.47
 34,13.1817
END:VEVENT
BEGIN:VTIMEZONE
TZID:Europe/Rome
X-LIC-LOCATION:Europe/Rome
BEGIN:STANDARD
DTSTART:20221030T020000
TZOFFSETFROM:+0200
TZOFFSETTO:+0100
TZNAME:CET
END:STANDARD
END:VTIMEZONE
END:VCALENDAR