BEGIN:VCALENDAR
VERSION:2.0
PRODID:-//wp-events-plugin.com//7.2.3.1//EN
TZID:Europe/Rome
X-WR-TIMEZONE:Europe/Rome
BEGIN:VEVENT
UID:26776@lazioeventi.com
DTSTART;TZID=Europe/Rome:20200703T213000
DTEND;TZID=Europe/Rome:20200704T230000
DTSTAMP:20200629T053729Z
URL:https://lazioeventi.com/eventi/infiniti-dialetti-e-monica-gilardi-4et
SUMMARY:Infiniti dialetti e Monica Gilardi 4et - Fiumicino - 3 Luglio 20 21
 :30
DESCRIPTION:Venerdì 3 luglio ore 21.30\, lo spettacolo INFINITI DIALETTI
 … Le voci che eravamo Piece teatrale-musicale di Massimiliano Graziuso. 
 Un suonatore gira l’Italia per ascoltare e ripetere\, fra divagazioni\, 
 citazioni\, ricordi e piccoli aneddoti arriva
ATTACH;FMTTYPE=image/jpeg:https://lazioeventi.com/wp-content/uploads/2020/
 06/fabeisogni-3-4lug-2.jpg
CATEGORIES:Musica, Spettacoli e Danza nel Lazio
LOCATION:Fiumicino\, Comune\, Fiumicino\, Roma\, Lazio\, Italia
GEO:41.8026;12.2551
X-APPLE-STRUCTURED-LOCATION;VALUE=URI;X-ADDRESS=Comune\, Fiumicino\, Roma\,
  Lazio\, Italia;X-APPLE-RADIUS=100;X-TITLE=Fiumicino:geo:41.8026,12.2551
END:VEVENT
BEGIN:VTIMEZONE
TZID:Europe/Rome
X-LIC-LOCATION:Europe/Rome
BEGIN:DAYLIGHT
DTSTART:20200329T030000
TZOFFSETFROM:+0100
TZOFFSETTO:+0200
TZNAME:CEST
END:DAYLIGHT
END:VTIMEZONE
END:VCALENDAR