BEGIN:VCALENDAR
VERSION:2.0
PRODID:-//wp-events-plugin.com//7.2.3.1//EN
TZID:Europe/Rome
X-WR-TIMEZONE:Europe/Rome
BEGIN:VEVENT
UID:30907@lazioeventi.com
DTSTART;TZID=Europe/Rome;VALUE=DATE:20230528
DTEND;TZID=Europe/Rome;VALUE=DATE:20230529
DTSTAMP:20230522T143832Z
URL:https://lazioeventi.com/eventi/infiorata-di-corchiano
SUMMARY:Infiorata di Corchiano - Corchiano - 28 Maggio 23 00:00
DESCRIPTION:Torna l’infiorata di Corchiano\, paesino della provincia di V
 iterbo.\n\nLa manifestazione coniuga il bello nel bello: vere opere d’ar
 te realizzate con i fiori che si sviluppano lungo le vie centrali del sugg
 estivo borgo.\n\nA differenza delle comuni infiorate\, quella di Corchiano
  non si sviluppa come successione di quadri con soggetti diversi\, ma come
  un unico tappeto floreale che si srotola senza soluzione di continuità p
 er le strade del centro storico: una sorta di colonna traiana botanica.\n\
 nLa manifestazione si apre con una processione religiosa.
ATTACH;FMTTYPE=image/jpeg:https://lazioeventi.com/wp-content/uploads/2022/
 05/infiorata-corchiano-1.jpg
CATEGORIES:Sport, Tempo Libero e Divertimento nel Lazio
LOCATION:Corchiano\, Comune di Corchiano\, Corchiano\, Viterbo\, Lazio\, It
 alia
GEO:42.4187;12.3471
X-APPLE-STRUCTURED-LOCATION;VALUE=URI;X-ADDRESS=Comune di Corchiano\, Corch
 iano\, Viterbo\, Lazio\, Italia;X-APPLE-RADIUS=100;X-TITLE=Corchiano:geo:4
 2.4187,12.3471
END:VEVENT
BEGIN:VTIMEZONE
TZID:Europe/Rome
X-LIC-LOCATION:Europe/Rome
BEGIN:DAYLIGHT
DTSTART:20230326T030000
TZOFFSETFROM:+0100
TZOFFSETTO:+0200
TZNAME:CEST
END:DAYLIGHT
END:VTIMEZONE
END:VCALENDAR