BEGIN:VCALENDAR
VERSION:2.0
PRODID:-//wp-events-plugin.com//7.2.3.1//EN
TZID:Europe/Rome
X-WR-TIMEZONE:Europe/Rome
BEGIN:VEVENT
UID:33451@lazioeventi.com
DTSTART;TZID=Europe/Rome:20221217T160000
DTEND;TZID=Europe/Rome:20221218T183000
DTSTAMP:20221215T205910Z
URL:https://lazioeventi.com/eventi/inside-out-christmas-festival-2022-12-1
 7
SUMMARY:Inside out Christmas Festival - Priverno - 17 Dicembre 22 16:00
DESCRIPTION:LE TAVOLE DEL GUSTO E GLI SPETTACOLI ITINERANTI\n\nIn un Bianco
  Priverno ricco di spettacoli musicali\, artistici e teatrali\, al via il 
 progetto Inside out Christmas Festival\, l’arte del Natale dentro e fuor
 i.\n\nDall’8 dicembre 2022 al 6 gennaio 2023\, in ogni week end a rotazi
 one\, i luoghi più suggestivi e rappresentativi dell’arte e della cultu
 ra della città ospiteranno le eccellenze del gusto tipiche della tradizio
 ne italiana: l’olio\, il vino\, il pane e i dolci\, e tanti artisti di s
 trada nonché giochi e rievocazioni natalizie.\n\nGiovedì 8 dicembre si i
 nizia la mattina alle ore 10\,00 con la Babbo’s Red Running\, la corsa s
 ociale degli atleti delle palestre e associazioni sportive\, culturali\, m
 usicali e sociali di Priverno\, aperta a tutta la cittadinanza\, per una v
 ivace staffetta tinta di orde di cappelli rossi a invadere le strade della
  città di Priverno. Per partecipare alla corsa\, basta presentarsi dirett
 amente muniti di cappellino rosso\, alle ore 09.45 in Piazza Giovanni XXII
 I\, accolti da una gustosa colazione.\n\nA seguire\, alle ore 16\,00\, apr
 irà le porte\, il Villaggio degli Elfi\, allestito nella Galleria esposit
 iva dei Portici Comunali\, per offrire ai bambini un luogo dove giocare\, 
 fantasticare e incontrare animati folletti\, fate\, gnomi\, tra giochi e d
 ivertenti laboratori.\n\nAlle ore 17\,00\, aprono le danze le Tavole del G
 usto\, presso la Sala delle Cerimonie del Palazzo Comunale\, con l’Olio 
 Evo\, in un percorso di analisi sensoriale dell’olio extravergine di oli
 va della produzione privernese\, fra degustazione e racconti degli assaggi
 atori Capol.\n\nL’Olio EVO sarà presente nelle tavole del gusto i giorn
 i 8-18 e 22 dicembre presso la Sala delle Cerimonie del Palazzo Comunale\,
  dalle ore 17\,00 alle ore 20\,00\, offrendo ai più piccoli il mini labor
 atorio “trova l’intruso”\, dove poter giocare con gusto.\n\nI giorni
  9-22 e 23 dicembre\, sarà protagonista delle Tavole del Gusto\, il Vino.
  “Una Cultura da degustare\, il titolo dell’evento che si svolgerà pr
 esso la Sala delle Cerimonie del Palazzo Comunale. Ci sarà la possibilit
 à di assaggiare vini di antiche Abbazie e vini del territorio pontino\, f
 ra il racconto del vino nell’antichità e l’importanza culturale di og
 gi\, a cura della “ Strada del Vino” e dell’“Associazione Passione
  di Vino”.\n\nTra le attività di animazione\, sarà la singolare arte d
 i strada natalizia\, con gli spettacoli di giocoleria\, mangiafuoco\, tram
 polieri\, equilibristi\, clown e musicisti ad animare e canalizzare il pub
 blico nelle molteplici attività della rassegna Inside out Christmas Festi
 val\, l’arte del Natale dentro e fuori.\n\nDalle ore 16\,00:\n\n8 dicemb
 re Jazz itinerante - South Saxophone quartet (centro storico)\n9 dicembre 
 Giocoleria comica\, clownerie e hula hoop magico (centro storico)\n\n10 di
 cembre Jazz itinerante - South Saxophone quartet (B.di Fossanova)\n11 dice
 mbre Complesso Bandistico Città di Priverno (centro storico)\n\n17 dicemb
 re Jazz itinerante - South Saxophone quartet (centro storico)\n18 dicembre
  Hula Hoop magico\, One Man Band e clownerie (centro storico)\n\n22 dicemb
 re Danza Aerea\, Hula Hoop e One Man Band (centro storico)\n23 dicembre Ja
 zz itinerante - South Saxophone quartet\, clownerie\, danza aerea\, giocol
 eria\, fuoco e One Man Band (centro storico)\n\n6 gennaio clownerie\, hula
  hoop\, e giocoleria comica (centro storico) \n\n[gallery columns="2" link
 ="file" ids="159101\,159100"]
ATTACH;FMTTYPE=image/jpeg:https://lazioeventi.com/wp-content/uploads/2022/
 12/manifesto-df-1.jpg
CATEGORIES:Musica, Spettacoli e Danza nel Lazio,Sport, Tempo Libero e
 Divertimento nel Lazio,Varie
LOCATION:Priverno\, Comune di Priverno\, Priverno\, Latina\, Lazio\, Italia
GEO:41.4734;13.1817
X-APPLE-STRUCTURED-LOCATION;VALUE=URI;X-ADDRESS=Comune di Priverno\, Priver
 no\, Latina\, Lazio\, Italia;X-APPLE-RADIUS=100;X-TITLE=Priverno:geo:41.47
 34,13.1817
END:VEVENT
BEGIN:VTIMEZONE
TZID:Europe/Rome
X-LIC-LOCATION:Europe/Rome
BEGIN:STANDARD
DTSTART:20221030T020000
TZOFFSETFROM:+0200
TZOFFSETTO:+0100
TZNAME:CET
END:STANDARD
END:VTIMEZONE
END:VCALENDAR