BEGIN:VCALENDAR
VERSION:2.0
PRODID:-//wp-events-plugin.com//7.2.3.1//EN
TZID:Europe/Rome
X-WR-TIMEZONE:Europe/Rome
BEGIN:VEVENT
UID:29100@lazioeventi.com
DTSTART;TZID=Europe/Rome:20211113T083000
DTEND;TZID=Europe/Rome:20211113T160000
DTSTAMP:20211109T114609Z
URL:https://lazioeventi.com/eventi/insieme-in-cammino
SUMMARY:Insieme in Cammino - Palestrina - 13 Novembre 21 08:30
DESCRIPTION:Promuovere il territorio...un passo alla volta\n3 uscite alla s
 coperta dei Castelli Romani e Prenestinii\, lungo gli antichi sentieri che
  attraversano questo territorio ricco di storia. 3 appuntamenti all'insegn
 a del benessere e della condivisione\n\n𝟭° 𝗧𝗔𝗣𝗣𝗔: 𝗣
 𝗔𝗟𝗘𝗦𝗧𝗥𝗜𝗡𝗔 - 𝗥𝗢𝗖𝗖𝗔 𝗣𝗥𝗜
 𝗢𝗥𝗔\n\n13 Novembre ore: 8.30\nAppuntamento: Palazzo Comunale di P
 alestrina\, via del Tempio 1\nLunghezza: 17km\nDislivello: 650m salita\, 4
 00m discesa\,\nDurata: 6h circa\nPortare: zaino\, SCARPE DA TREKKING ALTE\
 , giacca o mantellina impermeabile\, bastoncini da trekking\, acqua (1\,5 
 litri)\, pranzo al sacco\, abbigliamento a strati\, snack\, farmaci person
 ali\n\nPer info e iscrizioni\nUn messaggio Whatsapp: 338 760 7232 o 320619
 6535\nL'evento è gratuito e la partecipazione è previa iscrizione.\n\nL
 ’iniziativa Insieme in Cammino rientra nel premio “Ambasciatrici dell
 ’Economia Sociale”\, promosso dalla XI Comunità Montana\, destinato a
 lle iniziative in grado di valorizzare il nostro tessuto sociale accanto a
 lle eccellenze culturali\, archeologiche\, paesaggistiche ed enogastronomi
 che attraverso attività inclusive.\n\nLe attività hanno l’obiettivo di
  promuovere il concetto e la filosofia dell’Economia Sociale utilizzando
  Cammino come strumento\, a basso impatto ambientale\, per far conoscere i
 l territorio e favorire il turismo di prossimità contribuendo all’econo
 mia del territorio
ATTACH;FMTTYPE=image/jpeg:https://lazioeventi.com/wp-content/uploads/2021/
 11/insieme-in-cammino.jpg
CATEGORIES:Sport, Tempo Libero e Divertimento nel Lazio
LOCATION:Palestrina\, Comune\, Palestrina\, Roma\, Lazio\, Italia
GEO:41.8399;12.8889
X-APPLE-STRUCTURED-LOCATION;VALUE=URI;X-ADDRESS=Comune\, Palestrina\, Roma\
 , Lazio\, Italia;X-APPLE-RADIUS=100;X-TITLE=Palestrina:geo:41.8399,12.8889
END:VEVENT
BEGIN:VTIMEZONE
TZID:Europe/Rome
X-LIC-LOCATION:Europe/Rome
BEGIN:STANDARD
DTSTART:20211031T020000
TZOFFSETFROM:+0200
TZOFFSETTO:+0100
TZNAME:CET
END:STANDARD
END:VTIMEZONE
END:VCALENDAR