BEGIN:VCALENDAR
VERSION:2.0
PRODID:-//wp-events-plugin.com//7.2.3.1//EN
TZID:Europe/Rome
X-WR-TIMEZONE:Europe/Rome
BEGIN:VEVENT
UID:30457@lazioeventi.com
DTSTART;TZID=Europe/Rome:20220430T150000
DTEND;TZID=Europe/Rome:20220501T150000
DTSTAMP:20220411T155005Z
URL:https://lazioeventi.com/eventi/inspirando-ed-espirando-con-lo-spazio
SUMMARY:Inspirando ed espirando con lo spazio - Roma - 30 Aprile 22 15:00
DESCRIPTION:Laboratorio di danza condotto da Beatrice Libonati\nIl 30 april
 e e il 1 maggio 2022\, presso la Scatola dell'arte in via dei Latini 28 - 
 Roma\, Beatrice Libonati conduce il laboratorio Inspirando ed espirando co
 n lo spazio\, dedicato all'ibridazione dei linguaggi della danza e della p
 oesia. Il 1 maggio è\, inoltre\, prevista una restituzione pubblica con l
 a lettura di alcune poesie di Beatrice Libonati\n\n«Utilizzo come base il
  metodo di Jean Cébron e la mia esperienza di scena con Pina Bausch. Mi a
 vvalgo del metodo Cébron per impostare non solo il riscaldamento ma anche
  per esporre la possibilità di vedere un movimento da diversi punti di vi
 sta con le sue energie\, spazii e tempi sempre in continua evoluzione e mu
 tamento. E mi avvalgo della mia esperienza di scena per raccontare delle s
 ituazioni quotidiane e forse banali. Mi piace anche lavorare con la poesia
 \, e grazie a quella trovare un respiro interiore che si fonde e confonde 
 nella sfera del corpo e dell’anima».\n\nDal 1978 al 2006 nella compagni
 a di Pina Bausch in qualità di danzatrice solista e assistente artistica.
 \n\nBeatrice Libonati\, italiana nata in Belgio nel 1954\, ha vissuto a Ro
 ma dove ha studiato all’Accademia Nazionale di Danza e all’università
  La Sapienza. Nel 1977 lavora con Susanne Linke e dal 1978 sino al 2006 è
  nella compagnia di Pina Bausch in qualità di danzatrice solista e di ass
 istente artistica. Crea molte coreografie\, si dedica anche alla pittura e
  alla poesia\, scrivendo sette libri di poesie e schizzi.\n\nPer info e is
 crizioni:\ninfolascatoladellarte@gmail.com\; info@paesaggidelcorpo.it
ATTACH;FMTTYPE=image/jpeg:https://lazioeventi.com/wp-content/uploads/2022/
 04/laboratorio-libonati.jpg
CATEGORIES:Musica, Spettacoli e Danza nel Lazio,Varie
LOCATION:Roma\, Via Leopardi\, Roma\, Roma\, Lazio\, Italia
GEO:41.8942;12.5017
X-APPLE-STRUCTURED-LOCATION;VALUE=URI;X-ADDRESS=Via Leopardi\, Roma\, Roma\
 , Lazio\, Italia;X-APPLE-RADIUS=100;X-TITLE=Roma:geo:41.8942,12.5017
END:VEVENT
BEGIN:VTIMEZONE
TZID:Europe/Rome
X-LIC-LOCATION:Europe/Rome
BEGIN:DAYLIGHT
DTSTART:20220327T030000
TZOFFSETFROM:+0100
TZOFFSETTO:+0200
TZNAME:CEST
END:DAYLIGHT
END:VTIMEZONE
END:VCALENDAR