BEGIN:VCALENDAR
VERSION:2.0
PRODID:-//wp-events-plugin.com//7.2.3.1//EN
TZID:Europe/Rome
X-WR-TIMEZONE:Europe/Rome
BEGIN:VEVENT
UID:39417@lazioeventi.com
DTSTART;TZID=Europe/Rome:20240621T120000
DTEND;TZID=Europe/Rome:20240623T234500
DTSTAMP:20240617T141034Z
URL:https://lazioeventi.com/eventi/international-street-food-ariccia
SUMMARY:International Street Food - Ariccia - 21 Giugno 24 12:00
DESCRIPTION:Dopo il grande successo di pubblico dell’edizione 2023 con ol
 tre 12 milioni di visitatori\, l’VIII Edizione dell’International Stre
 et Food 2024 - la più importante manifestazione di street food esistente 
 in Italia\, organizzata da Alfredo Orofino\, Presidente di A.I.R.S. (Assoc
 iazione Italiana Ristoratori di Strada)\,  sarà per la prima volta ad  Ar
 iccia \, da venerdì 21 giugno a domenica 23 giugno\, con la sua 72° tapp
 a in un luogo storico il Ponte Monumentale\, (da venerdì dalle 18 alle 24
 \,  sabato e  domenica dalle 12 alle 24). \n\nL’iniziativa dedicata al c
 ibo di strada di qualità ha ormai conquistato il grande pubblico e conter
 à ben 150 tappe\, distribuite lungo tutto lo stivale fino alla fine di no
 vembre 2024\, toccherà tutti gli angoli del Paese e permetterà di assapo
 rare le migliori specialità italiane e straniere\, sempre all’insegna d
 ella qualità\, della passione per il buon cibo e della convivialità.\nI 
 truck più importanti d’Italia con dell’eccellente cibo di strada acco
 glieranno i visitatori. Un appuntamento di grande originalità per le cuci
 ne internazionali presenti\, che non dimentica le realtà gastronomiche re
 gionali provenienti da tutta Italia. Ariccia con l’International Street 
 Food\, diventa “capitale cibo di strada”.\n\nIn questa tappa sarà pos
 sibile gustare tra le molte specialità: gli arrosticini\, il fritto di pe
 sce\, la bombetta pugliese\, i donuts americani\, i brezel\, la cucina arg
 entina\, la cucina messicana\, i Butteri con la pasta mantecata con il cac
 io e il pepe\, la cucina greca\, la cucina indiana\, vari aperitivi e molt
 o altro. \n\nSaranno anche presenti birrifici artigianali di eccellenza it
 aliani\, europei oltre a quelli internazionali .\nNello stesso posto si po
 tranno gustare prodotti di paesi diversi e posti lontani ed essere avvolti
  da tanti profumi e sapori.\n\nLa nuova edizione è ripartita in grande st
 ile\, forte del successo riscosso lo scorso anno. Il pubblico è accorso n
 umeroso e con molto entusiasmo in ogni tappa per gustare le prelibatezze c
 ucinate dai protagonisti di questo festival\, gli chef su strada\, che han
 no difeso con caparbietà e orgoglio i loro Street Food.\n“Siamo giunti 
 all’8° anno di una manifestazione che anima il cuore di paesi e città 
 di tutta Italia e conta ormai su un pubblico affezionato. Anche in questa 
 edizione ci rimettiamo in gioco con nuove proposte per i visitatori. L’ 
 International Street Food è tutto questo e altro ancora: con i nostri eve
 nti intendiamo infatti valorizzare tipicità e tradizioni che sono la gran
 de ricchezza dei nostri territori. L'entusiasmo con cui siamo stati sempre
  accolti ci spinge a continuare con rinnovata energia. Siamo per questo si
 curi che la nuova edizione 2024 sarà un nuovo successo”\, afferma Alfre
 do Orofino\, organizzatore dell’International Street Food\, soprannomina
 to il “Re dello Street Food\, presidente di A.I.R.S. (Associazione Itali
 ana Ristoratori di Strada). \nAncora una volta\, saranno tanti i ristorant
 i itineranti e gli chef qualificati pronti a stupire con le particolarità
  e la qualità della loro cucina. Eccellenza\, originalità\, tradizione e
  rispetto delle norme igieniche e sanitarie  sono le parole d’ordine per
  ogni tappa di questo festival.\nContemporaneamente a Ariccia\, la manifes
 tazione sarà dal 21 giugno al 23 giugno  a Cava de' Tirreni ed a  Noci.\n
 \nLa manifestazione toccherà tante altre città fra queste Urbino\, Terni
 \, Teramo\, Macerata\, Cosenza\, Montecatini\, San Benedetto del Tronto\, 
 Lecco\, Napoli\, Giulianova\, Rieti\, Bergamo\, Cassino\, Ariccia\, Biella
 \, Sutri\, Cornadero\, Potenza\, Como\, Chioggia. Queste sono alcune delle
  tante città d’Italia che ospiteranno questa manifestazione\, che viagg
 erà per lo stivale in lungo ed in largo fino alla fine del mese di novemb
 re.
ATTACH;FMTTYPE=image/jpeg:https://lazioeventi.com/wp-content/uploads/2024/
 06/INTERNATIONAL-STREET-FOOD-ARICCIA.jpg
CATEGORIES:Sagre, Gastronomia e Tradizioni nel Lazio
LOCATION:Ariccia\, Comune\, Ariccia\, Roma\, Lazio\, Italia
GEO:41.72;12.671
X-APPLE-STRUCTURED-LOCATION;VALUE=URI;X-ADDRESS=Comune\, Ariccia\, Roma\, L
 azio\, Italia;X-APPLE-RADIUS=100;X-TITLE=Ariccia:geo:41.72,12.671
END:VEVENT
BEGIN:VTIMEZONE
TZID:Europe/Rome
X-LIC-LOCATION:Europe/Rome
BEGIN:DAYLIGHT
DTSTART:20240331T030000
TZOFFSETFROM:+0100
TZOFFSETTO:+0200
TZNAME:CEST
END:DAYLIGHT
END:VTIMEZONE
END:VCALENDAR