BEGIN:VCALENDAR
VERSION:2.0
PRODID:-//wp-events-plugin.com//7.2.3.1//EN
TZID:Europe/Rome
X-WR-TIMEZONE:Europe/Rome
BEGIN:VEVENT
UID:30708@lazioeventi.com
DTSTART;TZID=Europe/Rome:20220513T160000
DTEND;TZID=Europe/Rome:20220515T130000
DTSTAMP:20220428T083714Z
URL:https://lazioeventi.com/eventi/intrecci-medidiani-2022-05-13
SUMMARY:Intrecci Meridiani - Gaeta - 13 Maggio 22 16:00
DESCRIPTION:Nato a Ferla (SR) nel 1950\, Sicura si è trasferito in Germani
 a all'inizio degli anni 70\, dove ha studiato presso la "Free Art School" 
 di Stoccarda e più tardi all'Accademia di Belle Arti di Karlsruhe. Ha ott
 enuto borse di studio dalla città di Filderstadt/BadenWurtternberg\, dall
 'Accademia di Belle Arti di Karlsruhe e\, in Italia\, da "Villa Romana" a 
 Firenze. Ha iniziato a lavorare con varie collaborazioni e scambi cultural
 i tra associazioni italiane e tedesche come il "Goete Institute" e "The It
 alian Cultural Institute" di Stoccarda.\n\nDomenica 1 maggio 2022 alle ore
  11\,00 presso la Pinacoteca Comunale “Antonio Sapone” di Gaeta sarà 
 inaugurata la mostra: INTRECCI MERIDIANI\, personale dell’Artista sicili
 ano Jano Sicura a cura di Tommaso Evangelista. \n\nInterverranno il curato
 re Tommaso Evangelista e il Presidente Onorario dell’Associazione Novece
 nto Prof.Marcello  Carlino.\n\nLa mostra resterà aperta fino al 19 giugno
  rispettando i seguenti orari:\nVenerdì ore 16\,00-20\,00 Sabato e Domeni
 ca 11\,00 -13\,00
ATTACH;FMTTYPE=image/jpeg:https://lazioeventi.com/wp-content/uploads/2022/
 04/jano-sicura.jpg
CATEGORIES:Arte e Cultura nel Lazio
LOCATION:Gaeta\, Comune\, Gaeta\, Latina\, Lazio\, Italia
GEO:41.2138166;13.571388500000012
X-APPLE-STRUCTURED-LOCATION;VALUE=URI;X-ADDRESS=Comune\, Gaeta\, Latina\, L
 azio\, Italia;X-APPLE-RADIUS=100;X-TITLE=Gaeta:geo:41.2138166,13.571388500
 000012
END:VEVENT
BEGIN:VTIMEZONE
TZID:Europe/Rome
X-LIC-LOCATION:Europe/Rome
BEGIN:DAYLIGHT
DTSTART:20220327T030000
TZOFFSETFROM:+0100
TZOFFSETTO:+0200
TZNAME:CEST
END:DAYLIGHT
END:VTIMEZONE
END:VCALENDAR