BEGIN:VCALENDAR
VERSION:2.0
PRODID:-//wp-events-plugin.com//7.2.3.1//EN
TZID:Europe/Rome
X-WR-TIMEZONE:Europe/Rome
BEGIN:VEVENT
UID:33704@lazioeventi.com
DTSTART;TZID=Europe/Rome:20230110T163000
DTEND;TZID=Europe/Rome:20230110T174500
DTSTAMP:20230106T162522Z
URL:https://lazioeventi.com/eventi/io-come-mario-lodi
SUMMARY:Io come... Mario Lodi - Ladispoli - 10 Gennaio 23 16:30
DESCRIPTION:“In biblioteca tra arte\, stelle e storie” arriva a conclus
 ione. \n\nAppuntamento con l’ultimo incontro del progetto che prevede la
 boratori artistico-didattici per celebrare personaggi illustri di rilevanz
 a nazionale\, martedì 10 gennaio alla biblioteca comunale.\n\nIn quella o
 ccasione saranno festeggiati i 100 anni dalla nascita di Mario Lodi con 
 “Io come … Mario Lodi”: saranno lette alcune sue brevi storie e poes
 ie e sarà realizzato un laboratorio di scrittura creativa finale.\n\nL’
 incontro\, prendendo ispirazione dal modo di operare del celebre scrittore
  che ha ideato molte delle sue storie proprio grazie agli incontri creativ
 i con i suoi alunni\, terminerà con la realizzazione di un un lapbook par
 tendo dal silent book di Iela Mari “L’albero”.\n\nL’evento\, reali
 zzato da Mara Ciavarella e Monica Roberti dell’Associazione Aperta paren
 tesi\, è dedicato a bambini dagli 8 agli 11 anni\, è gratuito ma la pren
 otazione è obbligatoria ai contatti della Biblioteca.
ATTACH;FMTTYPE=image/jpeg:https://lazioeventi.com/wp-content/uploads/2023/
 01/MARIO-LODI.jpg
CATEGORIES:Arte e Cultura nel Lazio
LOCATION:Ladispoli\, Comune\, Ladispoli\, Roma\, Lazio\, Italia
GEO:41.955;12.0698
X-APPLE-STRUCTURED-LOCATION;VALUE=URI;X-ADDRESS=Comune\, Ladispoli\, Roma\,
  Lazio\, Italia;X-APPLE-RADIUS=100;X-TITLE=Ladispoli:geo:41.955,12.0698
END:VEVENT
BEGIN:VTIMEZONE
TZID:Europe/Rome
X-LIC-LOCATION:Europe/Rome
BEGIN:STANDARD
DTSTART:20221030T020000
TZOFFSETFROM:+0200
TZOFFSETTO:+0100
TZNAME:CET
END:STANDARD
END:VTIMEZONE
END:VCALENDAR