BEGIN:VCALENDAR
VERSION:2.0
PRODID:-//wp-events-plugin.com//7.2.3.1//EN
TZID:Europe/Rome
X-WR-TIMEZONE:Europe/Rome
BEGIN:VEVENT
UID:37099@lazioeventi.com
DTSTART;TZID=Europe/Rome:20231214T210000
DTEND;TZID=Europe/Rome:20231217T210000
DTSTAMP:20230918T115323Z
URL:https://lazioeventi.com/eventi/io-ed-emma
SUMMARY:Io ed Emma - Roma - 14 Dicembre 23 21:00
DESCRIPTION:A chiudere la prima parte della stagione di Teatrosophia ci pen
 sa la MARGOT THEATRE COMPANY che dal 14 al 17 dicembre presenta IO ED EMMA
  scritto e diretto da Valentina Cognatti. Protagoniste in scena: Loredana 
 Piedimonte - Martina Grandin - Sara Aiello - Elisa Salandra.\nÈ una mite 
 giornata di Aprile quando una madre e una figlia si incontrano di nuovo\, 
 dopo tanto tempo e troppo silenzio. Le parole\, gli sguardi\, i gesti dell
 e due donne si trasformano lentamente in un lungo racconto\, dove una veri
 tà sconosciuta\, nascosta o dimenticata\, riaffiora poco a poco. I ricord
 i si snodano\, amari e incontrollabili\, e le parole scongelano una storia
  nascosta\, la storia di una vita vissuta nel dolore\, nella violenza\, ne
 lla paura. Durante tutta la pièce\, il palcoscenico si riempie della tens
 ione psicologica dei due personaggi accostando alle battute dal tono crudo
  e realistico racconti di vita passata. La storia di Emma è quella di una
  donna come tante\, che appartiene ad un fenomeno su cui è necessario por
 re una costante attenzione: il femminicidio.\n\nTeatrosophia\nvia della Ve
 trina 7\nTel: 06 68801089 / 353 3925682 \nMail: info@teatrosophia.com\nSit
 o: www.teatrosophia.com\nFb: https://www.facebook.com/teatrosophia2018/\n
ATTACH;FMTTYPE=image/jpeg:https://lazioeventi.com/wp-content/uploads/2023/
 09/Teatro01.jpg
CATEGORIES:Musica, Spettacoli e Danza nel Lazio
LOCATION:Roma\, Via Leopardi\, Roma\, Roma\, Lazio\, Italia
GEO:41.8942;12.5017
X-APPLE-STRUCTURED-LOCATION;VALUE=URI;X-ADDRESS=Via Leopardi\, Roma\, Roma\
 , Lazio\, Italia;X-APPLE-RADIUS=100;X-TITLE=Roma:geo:41.8942,12.5017
END:VEVENT
BEGIN:VTIMEZONE
TZID:Europe/Rome
X-LIC-LOCATION:Europe/Rome
BEGIN:STANDARD
DTSTART:20231029T020000
TZOFFSETFROM:+0200
TZOFFSETTO:+0100
TZNAME:CET
END:STANDARD
END:VTIMEZONE
END:VCALENDAR