BEGIN:VCALENDAR
VERSION:2.0
PRODID:-//wp-events-plugin.com//7.2.3.1//EN
TZID:Europe/Rome
X-WR-TIMEZONE:Europe/Rome
BEGIN:VEVENT
UID:36356@lazioeventi.com
DTSTART;TZID=Europe/Rome:20230722T213000
DTEND;TZID=Europe/Rome:20230722T230000
DTSTAMP:20230719T101414Z
URL:https://lazioeventi.com/eventi/io-mi-chiamo-g
SUMMARY:Io mi chiamo G - Roma - 22 Luglio 23 21:30
DESCRIPTION:L'Associazione Culturale Genta Rosselli\n\nPresenta\n\nIO MI CH
 IAMO G\n\nAnteprima Nazionale\n\nTesti e canzoni di Giorgio Gaber e Sandro
  Leporini\n\nAdattamento Marco Zangardi e Marco Belocchi \nRegia Marco Bel
 occhi \nDirezione musicale e arrangiamenti Andrea Moriconi \nInterpreti Ma
 rco Zangardi e Maria Teresa Pintus \nMusicisti Andrea Moriconi chitarra\, 
 Fabio Landi basso\, Valerio Cosmai\, batteria\n\n\nCostumi e grafica Maria
  Letizia Avato \nLuci Giorgio Rossi \nFonica Mauro Boninfante \nAiuto regi
 a Valentina Maselli \nProduzione A.C. Genta Rosselli \n\nGIARDINI DELLA FI
 LARMONICA ROMANA\n\nRassegna “I SOLISTI DEL TEATRO” – XXIX edizione\
 n\nSabato 22 luglio 2023 – ore 21\,30\n\nRiproporre Gaber a vent’anni 
 dalla scomparsa non è soltanto un doveroso omaggio ad un grande artista\,
  ma è necessario e indispensabile! In un tempo come il nostro\, in cui i 
 valori si sono totalmente dissolti\, in cui il degrado culturale ha raggiu
 nto minimi storici\, in cui la politica non ha  quasi più senso e certame
 nte non rappresenta più il popolo\, ma è asservita ai poteri forti\, in 
 cui  globalizzazione\, televisione\, sistemi digitali\, social e quant’a
 ltro sta sempre più soppiantando \nl’umano\, spesso ci siamo trovati a 
 pensare: ma cosa ne direbbe oggi Gaber di tutto questo\, lui che\,  in qua
 lche modo\, lo aveva presagito\, preconizzato\, paventato? Ovviamente non 
 lo sappiamo e allora  andiamo a ripercorrere il pensiero\, ovvero le canzo
 ni e i testi straordinari di questo straordinario artista\, forse unico ne
 l panorama italiano\, non solo per le sue peculiarità artistiche\, ma per
  la coerenza assoluta\, per non aver mai ceduto a compromessi o ai facili 
 successi. Un’artista che sapeva toccare la mente\, ma anche il cuore\, c
 on sarcasmo\, con dolcezza\, con intelligenza\, con sensibilità e sopratt
 utto con un’umanità coinvolgente. \n\nQualcuno ha detto che quando si u
 sciva dai suoi spettacoli\, (e noi siamo della generazione che ne ha per f
 ortuna usufruito) ci si sentiva migliori\, appagati da un senso di apparte
 nenza umana. Ecco questo è il senso di riproporre ripensare e meditare Ga
 ber. Certamente Gaber senza Gaber non è la stessa cosa\, indiscutibilment
 e le interpretazioni erano un tutt’uno con i testi e le canzoni e ne ris
 ultavano performance ineguagliabili. Purtroppo questo accade ed è accadut
 o con tutti i grandi autori-interpreti\, da Molière a De Filippo\, da Lui
 s Armstrong ai Pink Floyd\, ma è anche un modo per perpetuarne la memoria
 \, il messaggio\, la bellezza.  \n\nNaturalmente nel pensare lo spettacolo
  occorre operare delle scelte\, anche dolorose\, sacrificare brani che son
 o nella memoria collettiva\, per non rischiare di fare una greatest hits c
 he alla fine rimane in superficie. La nostra scelta ha voluto privilegiare
  il Gaber forse meno noto\, tralasciando la politica in senso stretto\, at
 tenendoci semmai a qualche apertura sociale/comportamentale\, e recuperand
 o invece il Gaber più intimo\, più sensibile\, vorremmo dire più femmin
 ile. Perché in fondo Gaber aveva due anime\, sapeva miscelare perfettamen
 te quella maschile\, più sarcastica e politica\, a quella femminile\, scu
 ra e malinconica\, a tratti dolce e sensuale. \n\nAnche per questo abbiamo
  scelto due interpreti che potessero sdoppiare queste due anime\, un attor
 e e un’attrice/cantante\, proprio per restituire le due facce in lui cos
 ì mirabilmente indissolubili\, evitando però letture o altro\, ma metten
 do in scena i brani\, ‘recitando’\, nel senso più completo della paro
 la\, come del resto faceva lo stesso Gaber. \n\nNello stesso tempo come li
 nea-up musicale abbiamo scelto un trio dalle venature rock\, il classico c
 hitarra-basso-batteria\, (con gli arrangiamenti del M° Andrea Moriconi)\,
  per rendere al massimo la musicalità dei brani\, esaltarne le armonie e 
 la modernità e perché no anche una certa aggressività tutt’altro che 
 retro.\n\nLa scenografia invece sarà\, a parte qualche elemento scenico\,
  tutta visuale\, con proiezioni che supporteranno sia i momenti musicali c
 he quelli in prosa. \n\nI contrasti e chiaroscuri di questa scelta sono la
  nostra linea d’interpretazione di brani come Prima dell’amore e Dopo 
 l’amore\, di Quando sarò capace di amare Com’è bella la città\, opp
 ure di Piccoli spostamenti del cuore\, Lo specchio\, etc. Ci auguriamo che
  Gaber possa ancora una volta toccare i cuori e le menti di tutti! \n\n\nB
 iglietti: \nIntero 15 euro - Ridotto 13 euro (età under 25\, over 65)\nGr
 uppi minimo 6 persone: 10 euro\n\nOrario botteghino: 18:30-22:00\n\nRistor
 ante: L'ingresso è libero e aperto a tutti dalle ore 18\n
ATTACH;FMTTYPE=image/jpeg:https://lazioeventi.com/wp-content/uploads/2023/
 07/Locandina-Gaber.jpg
CATEGORIES:Musica, Spettacoli e Danza nel Lazio
LOCATION:Roma\, Via Leopardi\, Roma\, Roma\, Lazio\, Italia
GEO:41.8942;12.5017
X-APPLE-STRUCTURED-LOCATION;VALUE=URI;X-ADDRESS=Via Leopardi\, Roma\, Roma\
 , Lazio\, Italia;X-APPLE-RADIUS=100;X-TITLE=Roma:geo:41.8942,12.5017
END:VEVENT
BEGIN:VTIMEZONE
TZID:Europe/Rome
X-LIC-LOCATION:Europe/Rome
BEGIN:DAYLIGHT
DTSTART:20230326T030000
TZOFFSETFROM:+0100
TZOFFSETTO:+0200
TZNAME:CEST
END:DAYLIGHT
END:VTIMEZONE
END:VCALENDAR