BEGIN:VCALENDAR
VERSION:2.0
PRODID:-//wp-events-plugin.com//7.2.3.1//EN
TZID:Europe/Rome
X-WR-TIMEZONE:Europe/Rome
BEGIN:VEVENT
UID:30776@lazioeventi.com
DTSTART;TZID=Europe/Rome:20220507T170000
DTEND;TZID=Europe/Rome:20220507T180000
DTSTAMP:20220503T094307Z
URL:https://lazioeventi.com/eventi/io-torno-al-museo-2-tutela-e-conservazi
 one-i-restauratori-raccontano
SUMMARY:IO TORNO AL MUSEO 2  “Tutela e conservazione: i restauratori racc
 ontano” - Mentana - 7 Maggio 22 17:00
DESCRIPTION:Sabato 7 maggio ore 17\nMuGa - museo garibladino di Mentana\n\n
 “Tutela e conservazione: i restauratori raccontano” Presentazione degl
 i ultimi interventi di restauro sui cimeli del museo.\n\nInterverranno\nMa
 nuel Balducci - Direttore MuGa\nZahra Azmoun - restauro tessuti\nFrancesca
  Barchiesi - restauro documenti cartacei\nGiulia Festa - CREF Museo Storic
 o della Fisica Centro Studi Enrico Fermi\nModera: Barbara Bravi - Assessor
 e alla Cultura Comune di Mentana\n\nPer tutte le attività non è prevista
  la prenotazione\nper info: cultura@cittadimentana.it\n\nScopri tutte le p
 roposte sulla nostra nuova pagina ufficiale del Polo Culturale Mentana\, c
 liccando su questo post:\n\nhttps://www.facebook.com/photo/?fbid=122955233
 651737\n\n&nbsp\;
ATTACH;FMTTYPE=image/jpeg:https://lazioeventi.com/wp-content/uploads/2022/
 05/manifesto-7-maggio_Lazio-eventi.jpg
CATEGORIES:Arte e Cultura nel Lazio
LOCATION:Mentana\, Comune di Mentana\, Mentana\, Roma\, Lazio\, Italia
GEO:42.0343;12.6374
X-APPLE-STRUCTURED-LOCATION;VALUE=URI;X-ADDRESS=Comune di Mentana\, Mentana
 \, Roma\, Lazio\, Italia;X-APPLE-RADIUS=100;X-TITLE=Mentana:geo:42.0343,12
 .6374
END:VEVENT
BEGIN:VTIMEZONE
TZID:Europe/Rome
X-LIC-LOCATION:Europe/Rome
BEGIN:DAYLIGHT
DTSTART:20220327T030000
TZOFFSETFROM:+0100
TZOFFSETTO:+0200
TZNAME:CEST
END:DAYLIGHT
END:VTIMEZONE
END:VCALENDAR