BEGIN:VCALENDAR
VERSION:2.0
PRODID:-//wp-events-plugin.com//7.2.3.1//EN
TZID:Europe/Rome
X-WR-TIMEZONE:Europe/Rome
BEGIN:VEVENT
UID:30405@lazioeventi.com
DTSTART;TZID=Europe/Rome:20220410T100000
DTEND;TZID=Europe/Rome:20220410T200000
DTSTAMP:20220407T090948Z
URL:https://lazioeventi.com/eventi/italia-in-tavola
SUMMARY:Italia in Tavola - Frosinone - 10 Aprile 22 10:00
DESCRIPTION:Torna domenica 10 aprile\, dalle ore 7 alle ore 20 in via Aldo 
 Moro\, la manifestazione dal titolo “Italia In Tavola"\, organizzata dal
 l’associazione "Piccoli Mercanti"\, con il patrocinio del Comune di Fros
 inone.\n\nSaranno allestiti circa 40 stand di prodotti tipici italiani\, d
 al Piemonte alla Sardegna\, dando grande risalto alla filiera del territor
 io ciociaro.\n\nL’evento si svolgerà in via Aldo Moro\, nel tratto comp
 rendente l’incrocio della strada di accesso al parcheggio a valle dell
 ’ascensore inclinato fino all’incrocio del fabbricato sede di diversi 
 esercizi commerciali.
ATTACH;FMTTYPE=image/jpeg:https://lazioeventi.com/wp-content/uploads/2022/
 04/Italia-In-Tavola.jpg
CATEGORIES:Fiere e Mercatini nel Lazio
LOCATION:Frosinone\, Comune\, Frosinone\, Frosinone\, Lazio\, Italia
GEO:41.6396;13.3508
X-APPLE-STRUCTURED-LOCATION;VALUE=URI;X-ADDRESS=Comune\, Frosinone\, Frosin
 one\, Lazio\, Italia;X-APPLE-RADIUS=100;X-TITLE=Frosinone:geo:41.6396,13.3
 508
END:VEVENT
BEGIN:VTIMEZONE
TZID:Europe/Rome
X-LIC-LOCATION:Europe/Rome
BEGIN:DAYLIGHT
DTSTART:20220327T030000
TZOFFSETFROM:+0100
TZOFFSETTO:+0200
TZNAME:CEST
END:DAYLIGHT
END:VTIMEZONE
END:VCALENDAR