BEGIN:VCALENDAR
VERSION:2.0
PRODID:-//wp-events-plugin.com//7.2.3.1//EN
TZID:Europe/Rome
X-WR-TIMEZONE:Europe/Rome
BEGIN:VEVENT
UID:42588@lazioeventi.com
DTSTART;TZID=Europe/Rome:20251001T100000
DTEND;TZID=Europe/Rome:20251030T190000
DTSTAMP:20250925T121209Z
URL:https://lazioeventi.com/eventi/italiani-di-salvatore-catalano
SUMMARY:ITALIANI di Salvatore Catalano - Roma - 1 Ottobre 25 10:00
DESCRIPTION:ITALIANI\nMostra personale di Salvatore Catalano\n01 - 30 Ottob
 re 2025\nPalazzo Velli\, Roma\nNYC Culture Club è lieto di presentare ITA
 LIANI\, una mostra personale dell'artista americano di origini italiane Sa
 lvatore Catalano\, a cura di Clayton Calvert\, organizzata con la collabor
 azione di ITSLIQUID Group e con il sostegno di Goldman Sachs Gives\, in pr
 ogramma dal 1 al 30 ottobre 2025 presso Palazzo Velli\, nel cuore di Trast
 evere a Roma.\nAttraverso una serie di ritratti finemente dettagliati\, Ca
 talano celebra con ITALIANI le storie e l'eredità di personaggi del Bel P
 aese il cui impegno nell’arte\, nella scienza\, nella politica e nella l
 etteratura continua ancora oggi a ispirare il mondo. Dai grandi maestri co
 me Leonardo\, Michelangelo e Raffaello alle icone della musica e del cinem
 a come Verdi\, Pavarotti\, Bocelli\, Sophia Loren e Federico Fellini\; dal
 le voci della letteratura come Italo Calvino e Pirandello fino alle protag
 oniste della scienza e della politica come Margherita Hack\, Rita Levi Mon
 talcini\, Samantha Cristoforetti e Giorgia Meloni. Il profondo legame tra 
 l'artista e le sue origini italiane è la base da cui è nato il progetto 
 espositivo. Dopo anni di studio della letteratura e della storia italiana\
 , Catalano ha evidenziato uno squilibrio nella rappresentazione iconografi
 ca dei suoi protagonisti - in particolare delle donne\, spesso lasciate ai
  margini delle narrazioni ufficiali. Nata con l'intento di valorizzare que
 ste figure femminili dimenticate\, ITALIANI si è progressivamente amplia
 ta fino a diventare un omaggio corale a chi\, al di là del genere\, incar
 na lo spirito creativo\, tenace e visionario dell'Italia.\nAttraverso una 
 tecnica che fonde l'equilibrio classico con una sensibilità contemporanea
 \, l'artista dà vita a una galleria di ritratti che include scienziati\, 
 politici\, imprenditori\,\numanitari\, artisti e scrittori. I tratti ritmi
 ci\, i raffinati giochi di luce e ombra e la profondità psicologica con c
 ui Catalano racconta i suoi soggetti restituiscono storie di coraggio\, in
 novazione e orgoglio culturale. Storie che aiutano a costruire una visione
  più inclusiva e ricca dell'identità italiana.\nCon ITALIANI\, Salvatore
  Catalano invita lo spettatore a riflettere su come la memoria individuale
  e collettiva possa essere preservata attraverso il ritratto\, non solo co
 me documento\, ma come celebrazione. I suoi lavori si fanno specchio del p
 assato e del presente\, ricordandoci che la storia appartiene anche a chi\
 , solo ora\, viene finalmente riconosciuto e visto.
ATTACH;FMTTYPE=image/jpeg:https://lazioeventi.com/wp-content/uploads/2025/
 09/salvatore-catalano-italiani-000011.jpg
CATEGORIES:Arte e Cultura nel Lazio
LOCATION:Roma\, Via Leopardi\, Roma\, Roma\, Lazio\, Italia
GEO:41.8942;12.5017
X-APPLE-STRUCTURED-LOCATION;VALUE=URI;X-ADDRESS=Via Leopardi\, Roma\, Roma\
 , Lazio\, Italia;X-APPLE-RADIUS=100;X-TITLE=Roma:geo:41.8942,12.5017
END:VEVENT
BEGIN:VTIMEZONE
TZID:Europe/Rome
X-LIC-LOCATION:Europe/Rome
BEGIN:DAYLIGHT
DTSTART:20250330T030000
TZOFFSETFROM:+0100
TZOFFSETTO:+0200
TZNAME:CEST
END:DAYLIGHT
BEGIN:STANDARD
DTSTART:20251026T020000
TZOFFSETFROM:+0200
TZOFFSETTO:+0100
TZNAME:CET
END:STANDARD
END:VTIMEZONE
END:VCALENDAR