BEGIN:VCALENDAR
VERSION:2.0
PRODID:-//wp-events-plugin.com//7.2.3.1//EN
TZID:Europe/Rome
X-WR-TIMEZONE:Europe/Rome
BEGIN:VEVENT
UID:43020@lazioeventi.com
DTSTART;VALUE=DATE:20251206
DTEND;VALUE=DATE:20251208
DTSTAMP:20251105T203339Z
URL:https://lazioeventi.com/eventi/itinerari-culturali-2025-11-15-2025-11-
 22-2025-11-29-2025-12-06
SUMMARY:Itinerari Culturali - Terracina - 6 Dicembre 25 00:00
DESCRIPTION:GASTRONOMICA 2025: A TERRACINA TORNANO GLI "ITINERARI CULTURALI
 "\nVisite guidate gratuite alla scoperta del centro storico\, tra Via Appi
 a Antica e Via Francigena\, nell'anno del Giubileo.\n\nIn occasione dell'1
 1ª edizione di "Gastronomica - Festival del Gusto"\, la città di Terraci
 na si prepara ad accogliere residenti e turisti con un'iniziativa cultural
 e di grande pregio: tornano gli "Itinerari Culturali"\, un ciclo di visite
  guidate gratuite alla scoperta delle meraviglie del centro storico alto e
  basso.\n\nL'iniziativa\, particolarmente significativa nell'Anno del Giub
 ileo\, è curata dall'Archeoclub d'Italia-Sede Storica di Terracina e si i
 nserisce nel ricco programma del festival\, coniugando la scoperta della s
 toria locale con la cultura del buon cibo.\n\nI tour\, che si snoderanno l
 ungo i tracciati storici della Via Appia Antica e della Via Francigena del
  Sud\, sono suddivisi in due distinti percorsi:\n1. Itinerario: Centro Sto
 rico Alto\nUn viaggio affascinante da Porta Romana a Porta Albina.\n\n 	Qu
 ando: Sabato 15\, 22\, 29 novembre e Sabato 6 dicembre.\n 	Appuntamento: O
 re 15:00 presso Porta Romana.\n 	Speciale: Al termine della visita\, segui
 rà una degustazione presso la cantina gastronomica "Casa Silla.na" in Via
  dei Sanniti\, unendo così cultura e sapori.\n\n2. Itinerario: Centro Sto
 rico Basso\nUn percorso alla scoperta della città bassa\, da Porta Albina
  a Porta Napoletana.\n\n 	Quando: Domenica 16\, 23\, 30 novembre e Domenic
 a 7 dicembre.\n 	Appuntamento: Ore 10:30 presso Piazza Santa Domitilla.\n\
 nLa partecipazione a tutte le visite guidate è completamente gratuita.\n\
 nCome Prenotare\nData la natura gratuita dell'evento\, la prenotazione è 
 fortemente consigliata per assicurarsi un posto. È possibile prenotare tr
 amite i seguenti canali:\n\n 	FESTIVALGASTRONOMICA.IT: Tramite il sito uff
 iciale o inviando un messaggio WhatsApp al numero 333 3327936\, indicando 
 nome\, cognome\, data dell'evento e un recapito cellulare.\n 	Archeoclub d
 i Terracina: Contattando i numeri 0773 701441 o 338 3455755 (per prenotazi
 oni).\n
ATTACH;FMTTYPE=image/jpeg:https://lazioeventi.com/wp-content/uploads/2025/
 11/gastronomica-locandina-2025.jpg
CATEGORIES:Arte e Cultura nel Lazio
LOCATION:Terracina\, Comune\, Terracina\, Latina\, Lazio\, Italia
GEO:41.2912;13.2492
X-APPLE-STRUCTURED-LOCATION;VALUE=URI;X-ADDRESS=Comune\, Terracina\, Latina
 \, Lazio\, Italia;X-APPLE-RADIUS=100;X-TITLE=Terracina:geo:41.2912,13.2492
END:VEVENT
END:VCALENDAR