BEGIN:VCALENDAR
VERSION:2.0
PRODID:-//wp-events-plugin.com//7.2.3.1//EN
TZID:Europe/Rome
X-WR-TIMEZONE:Europe/Rome
BEGIN:VEVENT
UID:30053@lazioeventi.com
DTSTART;TZID=Europe/Rome:20220319T213000
DTEND;TZID=Europe/Rome:20220319T230000
DTSTAMP:20220310T195526Z
URL:https://lazioeventi.com/eventi/ivano-icardi-trio-in-concerto
SUMMARY:Ivano Icardi Trio in concerto - Roma - 19 Marzo 22 21:30
DESCRIPTION:Il trio di Ivano Icardi in un nuovo concerto strumentale raffin
 ato ed unico. Un’accurata selezione dei brani più coinvolgenti ed emozi
 onanti di uno dei chitarristi più apprezzati del nostro paese\, rivisitat
 i in una nuova chiave di lettura con sonorità che spaziano dal jazz al bl
 ues.\n\nIn questo concerto Icardi si esibirà in brani iconici come “Cap
  &amp\; Hat”\, “To you” o “A Prayer”\, grandi rivisitazioni come
  “Human Nature”\, “Time after Time” e\, in anteprima\, in alcuni i
 nediti che saranno pubblicati sul suo prossimo album.\n\nSul palco insieme
  a lui ci saranno due musicisti straordinari: Lele Melotti alla batteria e
  Andrea Torresani al basso.\nLele Melotti\, che non ha certo bisogno di pr
 esentazioni è una colonna portante della musica italiana\, noto per le nu
 merose collaborazioni con nomi quali Vasco Rossi\, Renato Zero\, Eros Rama
 zzotti\, Fiorella Mannoia\, Claudio Baglioni e moltissimi altri.\nAndrea T
 orresani talentuoso e poliedrico bassista che ha affiancato Vasco Rossi ne
 i suoi ultimi tour e lavorato\, tra i tanti\, con artisti del calibro di E
 ros Ramazzotti\, Franco Battiato e Adriano Celentano.\nUn concerto emozion
 ante e imperdibile!\n\nIvano Icardi | Chitarra\nLele Melotti | Batteria\nA
 ndrea Torresani | Basso\n\nDalle ore 19.30 cena alla carta\nDalle ore 21.3
 0 live music
ATTACH;FMTTYPE=image/jpeg:https://lazioeventi.com/wp-content/uploads/2022/
 03/ivano-icardi-trio.jpg
CATEGORIES:Musica, Spettacoli e Danza nel Lazio
LOCATION:Roma\, Via Leopardi\, Roma\, Roma\, Lazio\, Italia
GEO:41.8942;12.5017
X-APPLE-STRUCTURED-LOCATION;VALUE=URI;X-ADDRESS=Via Leopardi\, Roma\, Roma\
 , Lazio\, Italia;X-APPLE-RADIUS=100;X-TITLE=Roma:geo:41.8942,12.5017
END:VEVENT
BEGIN:VTIMEZONE
TZID:Europe/Rome
X-LIC-LOCATION:Europe/Rome
BEGIN:STANDARD
DTSTART:20211031T020000
TZOFFSETFROM:+0200
TZOFFSETTO:+0100
TZNAME:CET
END:STANDARD
END:VTIMEZONE
END:VCALENDAR