BEGIN:VCALENDAR
VERSION:2.0
PRODID:-//wp-events-plugin.com//7.2.3.1//EN
TZID:Europe/Rome
X-WR-TIMEZONE:Europe/Rome
BEGIN:VEVENT
UID:43193@lazioeventi.com
DTSTART;TZID=Europe/Rome:20251205T173000
DTEND;TZID=Europe/Rome:20251205T193000
DTSTAMP:20251124T191127Z
URL:https://lazioeventi.com/eventi/ivincitori-della-terza-edizione-del-pre
 mio-internazionale-giovan-battista-calapai-e-theodora-van-mierlo-benedetti
SUMMARY:Ivincitori della Terza Edizione del Premio Internazionale “Giovan
  Battista Calapai e Theodora van Mierlo Benedetti” - Roma - 5 Dicembre 2
 5 17:30
DESCRIPTION:Con il Patrocinio di Città Metropolitana di Roma Capitale\n\nV
 enerdì 5 dicembre\, alle ore 17:30\, Palazzo Valentini (Sala Di Liegro 
 – Via IV Novembre 119/A\, Roma) ospiterà la cerimonia di consegna della
  terza edizione del Premio Internazionale “Giovan Battista Calapai e The
 odora van Mierlo Benedetti”.\n\nA-HEAD Project di Angelo Azzurro Onlus p
 resenta ufficialmente i nomi dei tre artistə selezionati quest’anno per
  un riconoscimento che\, sin dalla sua istituzione\, sostiene la ricerca a
 rtistica contemporanea come veicolo di consapevolezza e riflessione sulla 
 salute mentale. L’iniziativa\, ideata e curata da Piero Gagliardi nell
 ’ambito del progetto A-HEAD\, conferma la volontà di promuovere uno spa
 zio di incontro tra arte\, società e salute mentale.\n\nI PREMIATI\n\n•
  Alessio Barchitta – Vincitore del Premio Giovan Battista Calapai\n\n(1.
 200 euro + pubblicazione A-HEAD Edizioni)\n\nLa sua pratica attraversa pit
 tura\, scultura e installazione\, analizzando con finezza la memoria dei m
 ateriali e la tensione tra fragilità e permanenza. Il Premio Giovan Batti
 sta Calapai sarà consegnato da Barbara Salvucci.\n\n• Giulia Zabarella 
 – Vincitrice della Menzione Theodora van Mierlo Benedetti\n\n(800 euro +
  pubblicazione A-HEAD Edizioni)\n\nArtista e performer con una ricerca int
 ernazionale\, indaga linguaggio\, corpo\, spazio e processi di traduzione 
 tra visibile e invisibile. La Menzione Theodora van Mierlo Benedetti sarà
  consegnata da Carla Benedetti Bock e Lorenzo Assirio Benedetti.\n\n• Ze
 roscena (Elisa La Boria e Luka Bagnoli) – Vincitori del Premio Piero Gag
 liardi\n\n(500 euro + acquisizione di un’opera inedita per la Collezione
  del MUSMA di Matera)\n\nIl collettivo esplora luoghi di confinamento\, am
 bienti domestici e spazi ibridi\, trasformandoli in scenari d’azione che
  interrogano archivi\, oggetti e sistemi complessi. Il Premio Piero Gaglia
 rdi sarà consegnato da Luca Centola.\n\nIL PROGETTO E LA GIURIA\n\nLe ope
 re premiate entreranno nella piattaforma di 3500 cm²\, curata da Lorenzo 
 Benedetti\, che diffonde grandi manifesti d’arte contemporanea all’int
 erno di spazi dedicati alla cura e al benessere.\n\nLa selezione dei tre a
 rtistə è stata affidata a una giuria composta da:\n\nLorenzo Benedetti\,
  curatore e storico dell’arte\; Dora Stiefelmeier e Mario Pieroni di RAM
  radioartemobile\; Gianfranco Grosso\, artista\; Francesco Nucci\, preside
 nte della Fondazione VOLUME!\; Davide Sebastian\, artista\; Simona Spinell
 a\, curatrice e storica dell’arte\; Teresa Macrì\, critica d’arte e s
 crittrice\; Paolo Grassino\, artista\; Raffaella De Chirico\, gallerista. 
 Coordinano la giuria la Dott.ssa Stefania Calapai e la curatrice Roberta M
 elasecca.\n\nIn aggiunta ai premi economici e alle pubblicazioni\, i vinci
 tori del Premio Calapai e della Menzione Theodora van Mierlo Benedetti ric
 everanno un’opera realizzata dall’artista Barbara Salvucci\, mentre il
  Premio Gagliardi prevede un’opera donata dall’artista Luca Centola.\n
 \nL’APPUNTAMENTO\n\nLa cerimonia si terrà venerdì 5 dicembre alle ore 
 17:30 presso Palazzo Valentini – Sala Di Liegro\, Roma.\n\nDurante l’e
 vento il Dott. Alessandro Bellotta Psichiatra e Psicoanalista Junghiano ed
  i curatori  Lorenzo Benedetti e Roberta Melasecca presenteranno i catalo
 ghi delle vincitrici – Camilla Gurgone e Gisella Chaudry - della Prima E
 dizione del Premio Internazionale Calapai-Benedetti\n\nL’iniziativa\, in
 oltre\, sarà sostenuta dalla presenza dell’artista e dj  Flavia Lazza
 rini che offre il proprio contributo a supporto del progetto A-HEAD.
ATTACH;FMTTYPE=image/jpeg:https://lazioeventi.com/wp-content/uploads/2025/
 11/image0.jpeg
CATEGORIES:Arte e Cultura nel Lazio
LOCATION:Roma\, Via Leopardi\, Roma\, Roma\, Lazio\, Italia
GEO:41.8942;12.5017
X-APPLE-STRUCTURED-LOCATION;VALUE=URI;X-ADDRESS=Via Leopardi\, Roma\, Roma\
 , Lazio\, Italia;X-APPLE-RADIUS=100;X-TITLE=Roma:geo:41.8942,12.5017
END:VEVENT
BEGIN:VTIMEZONE
TZID:Europe/Rome
X-LIC-LOCATION:Europe/Rome
BEGIN:STANDARD
DTSTART:20251026T020000
TZOFFSETFROM:+0200
TZOFFSETTO:+0100
TZNAME:CET
END:STANDARD
END:VTIMEZONE
END:VCALENDAR