BEGIN:VCALENDAR
VERSION:2.0
PRODID:-//wp-events-plugin.com//7.2.3.1//EN
TZID:Europe/Rome
X-WR-TIMEZONE:Europe/Rome
BEGIN:VEVENT
UID:37578@lazioeventi.com
DTSTART;TZID=Europe/Rome:20231025T110000
DTEND;TZID=Europe/Rome:20240218T190000
DTSTAMP:20231028T120642Z
URL:https://lazioeventi.com/eventi/jacovittissimevolmente
SUMMARY:Jacovittissimevolmente - Roma - 25 Ottobre 23 11:00
DESCRIPTION:L'incontenibile arte dell'umorismo\n\nA cento anni dalla nascit
 a\, in mostra il mondo fantastico\, giocoso\, scomodo e irriverente di Jac
 ovitti.\nBenito Jacovitti esordisce giovanissimo come autore di fumetti pe
 r poi diventare un importante nome di riferimento per il fumetto. \n\nDal 
 suo pennino e le sue tavole escono personaggi divenuti celebri nell’imma
 ginario popolare\, come Cocco Bill\, Zorry Kid\, Jack Mandolino\, Tom Ficc
 anaso. Jacovitti ha pubblicato strisce su Il Vittorioso\, il Corriere dei 
 Piccoli e il Corriere dei Ragazzi\, e ha disegnato le vignette del Diario 
 Vitt\, che hanno accompagnato per più trent’anni (1949 – 1980) genera
 zioni di giovani studenti italiani.\n\nIn mostra i cento personaggi creati
  dal fumettista.\n\nInsieme alla mostra al MAXXI\, in tandem il MACTE Muse
 o di Arte Contemporanea di Termoli presenta Tutte le follie di Jac! (7 ott
 obre 2023 – 26 febbraio 2024)\, a cura di Luca Raffaelli\, per approfond
 ire invenzioni tecniche e linguistiche che hanno reso “la lisca di pesce
 ” uno stile riconoscibile\, e Jacovitti un inventore di segni e personag
 gi indimenticabili. I due progetti\, paralleli e complementari\, sotto l
 ’unico titolo Jacovittissimevolmente\, trasportano lo spettatore nel mon
 do animato e dinamico inventato dall’artista.\n\nOrario:\nlunedì chiuso
 \nda martedì a domenica 11 – 19\nla biglietteria è aperta fino a un'or
 a prima della chiusura del Museo\n\nBiglietti\n10 € biglietto dedicato m
 ostra Jacovitti\n18 € biglietto intero mostra Jacovitti + ingresso MAXXI
  (€16 ridotto)
ATTACH;FMTTYPE=image/jpeg:https://lazioeventi.com/wp-content/uploads/2023/
 10/Jacovitti_cover.jpg
CATEGORIES:Arte e Cultura nel Lazio
LOCATION:Roma\, Via Leopardi\, Roma\, Roma\, Lazio\, Italia
GEO:41.8942;12.5017
X-APPLE-STRUCTURED-LOCATION;VALUE=URI;X-ADDRESS=Via Leopardi\, Roma\, Roma\
 , Lazio\, Italia;X-APPLE-RADIUS=100;X-TITLE=Roma:geo:41.8942,12.5017
END:VEVENT
BEGIN:VTIMEZONE
TZID:Europe/Rome
X-LIC-LOCATION:Europe/Rome
BEGIN:DAYLIGHT
DTSTART:20230326T030000
TZOFFSETFROM:+0100
TZOFFSETTO:+0200
TZNAME:CEST
END:DAYLIGHT
BEGIN:STANDARD
DTSTART:20231029T020000
TZOFFSETFROM:+0200
TZOFFSETTO:+0100
TZNAME:CET
END:STANDARD
END:VTIMEZONE
END:VCALENDAR