BEGIN:VCALENDAR
VERSION:2.0
PRODID:-//wp-events-plugin.com//7.2.3.1//EN
TZID:Europe/Rome
X-WR-TIMEZONE:Europe/Rome
BEGIN:VEVENT
UID:37362@lazioeventi.com
DTSTART;TZID=Europe/Rome:20231008T173000
DTEND;TZID=Europe/Rome:20231008T193000
DTSTAMP:20231005T093631Z
URL:https://lazioeventi.com/eventi/janare
SUMMARY:Janare - Montefiascone - 8 Ottobre 23 17:30
DESCRIPTION:Sei compagnie teatrali si sfideranno da Domenica 24 Settembre a
  Giovedì 5 Novembre presso la Sala Innocenzo III Rocca Dei Papi Montefias
 cone nell’ambito della prima rassegna teatrale “Città di Montefiascon
 e... teatro e tramonti”.\n\nDomenica 8 ottobre - ore 17.30\nRocca dei Pa
 pi - MONTEFIASCONE\n\nPRIMA RASSEGNA TEATRALE\nCITTÀ DI MONTEFIASCONE - T
 EATRO E TRAMONTI\n\nJanare\nCOMPAGNIA TEATRALE `GIORGIO ZERBINI`\nRegia di
  Anna Rita Ferretti\, Albina Rossi\, Elia Santini.\n\n\nINGRESSO LIBERO\n\
 n 
ATTACH;FMTTYPE=image/jpeg:https://lazioeventi.com/wp-content/uploads/2023/
 10/teatro-montefiascone.jpg
CATEGORIES:Musica, Spettacoli e Danza nel Lazio
LOCATION:Montefiascone\, Comune\, Montefiascone\, Viterbo\, Lazio\, Italia
GEO:42.5378;12.0302
X-APPLE-STRUCTURED-LOCATION;VALUE=URI;X-ADDRESS=Comune\, Montefiascone\, Vi
 terbo\, Lazio\, Italia;X-APPLE-RADIUS=100;X-TITLE=Montefiascone:geo:42.537
 8,12.0302
END:VEVENT
BEGIN:VTIMEZONE
TZID:Europe/Rome
X-LIC-LOCATION:Europe/Rome
BEGIN:DAYLIGHT
DTSTART:20230326T030000
TZOFFSETFROM:+0100
TZOFFSETTO:+0200
TZNAME:CEST
END:DAYLIGHT
END:VTIMEZONE
END:VCALENDAR