BEGIN:VCALENDAR
VERSION:2.0
PRODID:-//wp-events-plugin.com//7.2.3.1//EN
TZID:Europe/Rome
X-WR-TIMEZONE:Europe/Rome
BEGIN:VEVENT
UID:43951@lazioeventi.com
DTSTART;TZID=Europe/Rome:20260404T180000
DTEND;TZID=Europe/Rome:20260404T200000
DTSTAMP:20260305T100952Z
URL:https://lazioeventi.com/eventi/jazz-for-sla-traindeville-in-concerto-a
 l-museo-della-ceramica-della-tuscia
SUMMARY:Jazz for SLA - Traindeville in concerto al Museo della ceramica del
 la Tuscia - Viterbo - 4 Aprile 26 18:00
DESCRIPTION:La band di Ludovica Valori (voce\, fisarmonica\, trombone) e Pa
 olo Camerini (contrabbasso)\, con Fabio Gammone alla chitarra e al clarine
 tto\, propone un percorso nella musica romana con particolare attenzione a
 lla figura di Gabriella Ferri.\n\nUn'ottima occasione per visitare lo sple
 ndido Museo della ceramica della Tuscia\, nel cuore di Viterbo\, e di sost
 enere la ricerca contro la SLA.\nLa Ferri è stata non solo una voce indim
 enticabile\, ma figura emblematica di una romanità autentica\, capace di 
 accogliere la malinconia come la gioia\, il sacro come il profano\, l’an
 tico e il moderno. A lei si deve il recupero del folklore romanesco negli 
 anni '70: il suo inimitabile e tormentato percorso continua a dare ispiraz
 ione a moltissimi artisti della Capitale.\nUna suonata “di cuore” in c
 ui si ricorda la figura di Gabriella Ferri con alcune delle sue canzoni pi
 ù amate ma anche leggendo i suoi scritti e alcune poesie a lei dedicate d
 a artisti e poeti italiani.\n\nNon mancano canzoni e “Racconti romani”
  tratti dall'omonimo album del gruppo\, uscito nel 2024\, che raccoglie un
 a serie di classici come “Cento campane” - tra i brani più famosi del
  repertorio di Lando Fiorini - oltre a brani originali come “Bolero alla
  Romana” composto da Ludovica Valori e due omaggi a Ettore Petrolini\, l
 eggendario attore\, cantante e fine dicitore monticiano\, con “Fiore de 
 gioventù”\, eseguita nell'arrangiamento blues creato nel 2005 da Ardeco
 re – band protagonista del recupero del folk capitolino – e “Tanto p
 e' cantà”. Infine una ironica rivisitazione in chiave romana del brano 
 del cantautore americano Woody Guthrie “This Land Is Your Land” trasfo
 rmata in “E' la mia Roma”.\n\nSito web: www.traindeville.com\n\nMuseo
  della ceramica della Tuscia\n\nhttps://museodellaceramicadellatuscia.it/\
 nMuseo della ceramica della Tuscia\nVia Cavour\, 67 - 01100 Viterbo\nSabat
 o 4 aprile 2026 dalle ore 18\ningresso libero con donazioni facoltative a 
 favore della ricerca contro la SLA\nPrenotazione obbligatoria solo tramite
  whatsapp al 3661289196\nEvento Facebook https://www.facebook.com/events
 /866835916175005/
ATTACH;FMTTYPE=image/jpeg:https://lazioeventi.com/wp-content/uploads/2026/
 03/tdv_forte1.jpg
CATEGORIES:Arte e Cultura nel Lazio,Musica, Spettacoli e Danza nel
 Lazio,Varie
LOCATION:Viterbo\, Comune\, Viterbo\, Viterbo\, Lazio\, Italia
GEO:42.417;12.1051
X-APPLE-STRUCTURED-LOCATION;VALUE=URI;X-ADDRESS=Comune\, Viterbo\, Viterbo\
 , Lazio\, Italia;X-APPLE-RADIUS=100;X-TITLE=Viterbo:geo:42.417,12.1051
END:VEVENT
BEGIN:VTIMEZONE
TZID:Europe/Rome
X-LIC-LOCATION:Europe/Rome
BEGIN:DAYLIGHT
DTSTART:20260329T030000
TZOFFSETFROM:+0100
TZOFFSETTO:+0200
TZNAME:CEST
END:DAYLIGHT
END:VTIMEZONE
END:VCALENDAR