BEGIN:VCALENDAR
VERSION:2.0
PRODID:-//wp-events-plugin.com//7.2.3.1//EN
TZID:Europe/Rome
X-WR-TIMEZONE:Europe/Rome
BEGIN:VEVENT
UID:34122@lazioeventi.com
DTSTART;TZID=Europe/Rome:20230218T173000
DTEND;TZID=Europe/Rome:20230218T190000
DTSTAMP:20230216T080736Z
URL:https://lazioeventi.com/eventi/jerusalem-quartet-elisabeth-leonskaja
SUMMARY:Jerusalem Quartet & Elisabeth Leonskaja - Roma - 18 Febbraio 23 17:
 30
DESCRIPTION:Jerusalem Quartet\nElisabeth Leonskaja pianoforte\n\nProgramma\
 nHaydn Quartetto per archi in fa minore op. 20 n. 5 Hob.III:35\nDvořák Q
 uartetto per archi in fa maggiore op. 96 “Americano”\nŠostakovič Qui
 ntetto in sol minore per pianoforte e archi op. 57\n\nIncontro da camera d
 'eccezione per il Jerusalem Quartet\, formazione fra le più acclamate a l
 ivello internazionale\, ed Elisabeth Leonskaja\, leggenda vivente della gl
 oriosa scuola pianistica russa per il Quintetto di Šostakovič a conclusi
 one di un concerto che nella prima parte propone un Quartetto di Haydn e i
 l Quartetto "Americano" di Dvořák.\n\n \n\n
ATTACH;FMTTYPE=image/jpeg:https://lazioeventi.com/wp-content/uploads/2023/
 02/21-JerusalemcFelixBroede.jpg
CATEGORIES:Musica, Spettacoli e Danza nel Lazio
LOCATION:Roma\, Via Leopardi\, Roma\, Roma\, Lazio\, Italia
GEO:41.8942;12.5017
X-APPLE-STRUCTURED-LOCATION;VALUE=URI;X-ADDRESS=Via Leopardi\, Roma\, Roma\
 , Lazio\, Italia;X-APPLE-RADIUS=100;X-TITLE=Roma:geo:41.8942,12.5017
END:VEVENT
BEGIN:VTIMEZONE
TZID:Europe/Rome
X-LIC-LOCATION:Europe/Rome
BEGIN:STANDARD
DTSTART:20221030T020000
TZOFFSETFROM:+0200
TZOFFSETTO:+0100
TZNAME:CET
END:STANDARD
END:VTIMEZONE
END:VCALENDAR