BEGIN:VCALENDAR
VERSION:2.0
PRODID:-//wp-events-plugin.com//7.2.3.1//EN
TZID:Europe/Rome
X-WR-TIMEZONE:Europe/Rome
BEGIN:VEVENT
UID:33065@lazioeventi.com
DTSTART;TZID=Europe/Rome:20221127T190000
DTEND;TZID=Europe/Rome:20221127T203000
DTSTAMP:20221115T074905Z
URL:https://lazioeventi.com/eventi/l-a-classica-festival-2
SUMMARY:L.A. CLASSICA Festival - Latina - 27 Novembre 22 19:00
DESCRIPTION:Presso la Casa di Quartiere "Ex Cinema Enal" (in via della Staz
 ione 166\, Latina Scalo\, accanto alle Poste)\, nel cortile all’aperto n
 ei mesi estivi e all'interno della struttura nei mesi invernali o in caso 
 di pioggia.\n\nDal 4 settembre al 18 dicembre\, eventi di bellissima Music
 a dal vivo.\n\nAl via la quarta edizione 2022 del Festival di Musica Class
 ica organizzato dal Luogo Arte Events “L.A. CLASSICA Festival”\, in co
 llaborazione con Camera Musicale Romana e Cinema Enal - Casa\ndi Borgo e d
 i Quartiere\, e patrocinato moralmente dal Comune di Latina.\n\nIl Luogo A
 rte Accademia Musicale\, grazie alla sua inventiva e ad uno staff di music
 isti professionali e appassionati\, presenta bellissimi eventi presso lo s
 pazio "Casa di Quartiere Ex\nCinema Enal"\, in via della Stazione 166\, in
  Latina Scalo.\n\nConcerti su stupende pagine di grande musica e ricche pe
 rformance: i trii e i divertimenti di Haydn\, le superbe opere di Bach e d
 i Vivaldi\, la straordinaria Musica del grande Cinema\, il\nBarocco e le s
 ue magie\, la dedica alla bellezza della voce nelle arie d’opera\, le co
 mposizioni originali e la musica da Camera del tardo romanticismo\, vere e
  proprie gemme musicali in un\ncontesto arioso e preparato per vivere mome
 nti di rigenerazione e di arte.\n\nLa Direzione Artistica\, quest’anno\,
  è affidata ai Maestri Flavia Di Tomasso\, Direttore Artistico del Luogo 
 Arte\, violinista e ideatrice dei progetti dell’Accademia\, e Claudio Ma
 rtelli\, noto ed eccellente pianista oltre che direttore d’orchestra.\n\
 nDoveroso informare che tutti gli eventi sono organizzati nel pieno rispet
 to delle norme vigenti per la sicurezza. \nÈ possibile visionare tutti i 
 dettagli della Stagione portale Eventbrite del Luogo Arte Event\, dal qual
 e è possibile oltremodo effettuare la prenotazione del posto. \nI bigliet
 ti invece si acquistano in loco nell’apposita biglietteria che viene all
 estita a partire da 90 minuti prima di ogni evento. \n\nPer ulteriori info
 rmazioni si può mandare un messaggio whatsapp al numero 32883797615. \nIl
  costo dei biglietti è 12\,00 euro l’intero\, 10\,00 euro il ridotto\, 
 gratuito sotto i 10 anni. \nHanno diritto alla riduzione i minori\, i soci
  del Luogo Arte Accademia Musicale\, gli studenti universitari\, le person
 e diversamente abili e i loro accompagnatori.\n\nPer essere aggiornati su 
 tutti i dettagli\, i programmi e altro\, si consiglia di seguire i canali 
 social del Luogo Arte Accademia Musicale\, compreso il sito\, e la pagina 
 degli eventi Eventbrite ad esso dedicata.\n\nBuona Musica!\n\n20 novembre 
 ore 19.00: ASSOLO: LIRICHE PER CANTO E CHITARRA\n27 novembre ore 19.00: AS
 SOLO: ASSOLO: LA VOCE DEL FLAUTO\n11 dicembre ore 19.00: ASSOLO: L'ALTRO V
 OLTO DEL PIANOFORTE\n18 dicembre ore 11.00: CONCERTO DI NATALE\n\nPRENOTAZ
 IONI ONLINE O TELEFONICHE\nÈ possibile assicurarsi la prenotazione dei po
 sti e chiedere informazioni telefonando al numero 328 8379615.\nTutti i de
 ttagli sui programmi\, le prenotazioni e gli acquisti online dei biglietti
  sono disponibili sulla pagina del sito: https://www.luogoarte.it/l.a.-cla
 ssica-festival.html\n\nBIGLIETTERIA IN LOCO\nI biglietti si possono anche 
 acquistare in loco al botteghino allestito dall’organizzazione e aperto 
 al pubblico a partire da 60 minuti prima di ogni evento fino all’inizio 
 delle performance.\n\nCOSTI BIGLIETTI\nIntero: 12\,00 €\nRidotto: 10\,00
  € (fino a 25 anni compiuti\, persone diversamente abili\, accompagnator
 i di persone diversamente abili)\nOmaggio: riservato ai bambini fino ai 12
  anni compiuti.\n\nARTE E TECNOLOGIA\nL.A. CLASSICA Festival sarà anche o
 nline. I concerti potranno essere visionati in differita sul canale YouTub
 e di Luogo Arte Accademia Musicale da aprile 2023.\n\nGIOVANI TALENTI\nAlt
 ra caratteristica del Festival è l’inserimento di “Giovani Talenti”
 : mini-performance di 10/15 minuti di giovanissimi studenti di Musica.
ATTACH;FMTTYPE=image/jpeg:https://lazioeventi.com/wp-content/uploads/2022/
 11/L.A.-CLASSICA-Festival.jpeg
CATEGORIES:Musica, Spettacoli e Danza nel Lazio
LOCATION:Latina\, Comune di Latina\, Latina\, Latina\, Lazio\, Italia
GEO:41.4674;12.9034
X-APPLE-STRUCTURED-LOCATION;VALUE=URI;X-ADDRESS=Comune di Latina\, Latina\,
  Latina\, Lazio\, Italia;X-APPLE-RADIUS=100;X-TITLE=Latina:geo:41.4674,12.
 9034
END:VEVENT
BEGIN:VTIMEZONE
TZID:Europe/Rome
X-LIC-LOCATION:Europe/Rome
BEGIN:STANDARD
DTSTART:20221030T020000
TZOFFSETFROM:+0200
TZOFFSETTO:+0100
TZNAME:CET
END:STANDARD
END:VTIMEZONE
END:VCALENDAR