BEGIN:VCALENDAR
VERSION:2.0
PRODID:-//wp-events-plugin.com//7.2.3.1//EN
TZID:Europe/Rome
X-WR-TIMEZONE:Europe/Rome
BEGIN:VEVENT
UID:38135@lazioeventi.com
DTSTART;TZID=Europe/Rome;VALUE=DATE:20231226
DTEND;TZID=Europe/Rome;VALUE=DATE:20231227
DTSTAMP:20231218T200718Z
URL:https://lazioeventi.com/eventi/la-ballata-di-santo-stefano
SUMMARY:La Ballata di Santo Stefano - Collepardo - 26 Dicembre 23 00:00
DESCRIPTION:Torna l'evento nel cuore delle Festività Natalizie\n\nLA BALLA
 TA DI SANTO STEFANO II edizione nella splendida cornice del Pozzo D'Antull
 o di Collepardo (FR).\n\nDopo il successo dello scorso anno\, immersi in u
 n clima invernale nel bosco\, tra bracieri\, piatti tipici del territorio 
 e musica popolare e artigiani\, vogliamo tornare con voi il 26 Dicembre 20
 23 con un programma ricchissimo per bambini ed adulti.\n\nIngresso Gratuit
 o\n26 Dicembre 2023\n\nDalle 10:00 troverete prodotti tipici\, degustazion
 i di "Tartalicchi" e altri dolci natalizi della tradizione per una gustosi
 ssima colazione\n\nOre 10:30 Laboratorio di Tammurriata dell'Avvocata a cu
 ra di Isidoro Caso\, Raffaele Venosi e Dora Galiero\nInfo e prenotazioni 3
 349536466 - eventitradizione2.0@gmail.com\n\n13:00 Pranzo Popolare - Pasta
  e Fagioli\, Arrosto\, vin brulé\, bruschetteria e altri prodotti del ter
 ritorio\n\nL'eccellente degustazione dei liquori di SARANDREA LIQUORI\n\nA
  seguire festa a ballo\, concerti e spettacoli:\n- Marco Prosperini - Cond
 uzione\n- SaltallAra\n- Yevhen Svatovsky\n- Paranza do Tramuntan\n- I Tril
 lanti- Tradizione2.0\n- Jem session "Saltarello Spontaneo"\n\nDolci per tu
 tti i Bambini con Babbo Natale e gli Elfi\n\nAnimazione per bambini con Tr
 ucca bimbi e Balloon Art\n\nNon perdetevi questo evento incredibile nel cu
 ore della Ciociaria!
ATTACH;FMTTYPE=image/jpeg:https://lazioeventi.com/wp-content/uploads/2023/
 12/ballata-santo-stefano.webp
CATEGORIES:Musica, Spettacoli e Danza nel Lazio,Sagre, Gastronomia e
 Tradizioni nel Lazio
LOCATION:Collepardo\, Comune di Collepardo\, Collepardo\, Frosinone\, Lazio
 \, Italia
GEO:41.7612;13.3676
X-APPLE-STRUCTURED-LOCATION;VALUE=URI;X-ADDRESS=Comune di Collepardo\, Coll
 epardo\, Frosinone\, Lazio\, Italia;X-APPLE-RADIUS=100;X-TITLE=Collepardo:
 geo:41.7612,13.3676
END:VEVENT
BEGIN:VTIMEZONE
TZID:Europe/Rome
X-LIC-LOCATION:Europe/Rome
BEGIN:STANDARD
DTSTART:20231029T020000
TZOFFSETFROM:+0200
TZOFFSETTO:+0100
TZNAME:CET
END:STANDARD
END:VTIMEZONE
END:VCALENDAR