BEGIN:VCALENDAR
VERSION:2.0
PRODID:-//wp-events-plugin.com//7.2.3.1//EN
TZID:Europe/Rome
X-WR-TIMEZONE:Europe/Rome
BEGIN:VEVENT
UID:37101@lazioeventi.com
DTSTART;TZID=Europe/Rome:20240125T210000
DTEND;TZID=Europe/Rome:20240128T210000
DTSTAMP:20230918T115504Z
URL:https://lazioeventi.com/eventi/la-bambola-spezzata
SUMMARY:La Bambola spezzata - Roma - 25 Gennaio 24 21:00
DESCRIPTION:Gianni De Feo. Un altro grande artista che si riaffaccia a Teat
 rosophia\, in veste di regista. Dal 25 al 28 gennaio\, sarà lui infatti a
  dirigere LA BAMBOLA SPEZZATA di Emilia De Rienzo. Con Irma Ciaramella e A
 lessandra Ferro. Alla fisarmonica Marcello Fiorini\nUna madre abbandona la
  figlia sin dalla prima infanzia per consacrarsi alla fede nazista. Si rit
 rovano ora dopo lunghi anni. Si scrutano\, si riconoscono appena\, si fiut
 ano\, si respingono\, sospese in uno spazio onirico e irreale.  I ricordi 
 riaffiorano da una vecchia valigia dove è custodita una bambola\, unica t
 estimone del reale. Il ritmo è serrato e forte\, l’atmosfera tagliente.
  Come in una gabbia\, i due personaggi si affrontano in un delirante\, app
 assionato e feroce scontro tra vittima e carnefice.\n “No\, madre\, non 
 ti odio. Semplicemente non ti amo. Non posso amarti.”\n\nTeatrosophia\nv
 ia della Vetrina 7\nTel: 06 68801089 / 353 3925682 \nMail: info@teatrosoph
 ia.com\nSito: www.teatrosophia.com\nFb: https://www.facebook.com/teatrosop
 hia2018/\n
ATTACH;FMTTYPE=image/jpeg:https://lazioeventi.com/wp-content/uploads/2023/
 09/Teatro01.jpg
CATEGORIES:Musica, Spettacoli e Danza nel Lazio
LOCATION:Roma\, Via Leopardi\, Roma\, Roma\, Lazio\, Italia
GEO:41.8942;12.5017
X-APPLE-STRUCTURED-LOCATION;VALUE=URI;X-ADDRESS=Via Leopardi\, Roma\, Roma\
 , Lazio\, Italia;X-APPLE-RADIUS=100;X-TITLE=Roma:geo:41.8942,12.5017
END:VEVENT
BEGIN:VTIMEZONE
TZID:Europe/Rome
X-LIC-LOCATION:Europe/Rome
BEGIN:STANDARD
DTSTART:20231029T020000
TZOFFSETFROM:+0200
TZOFFSETTO:+0100
TZNAME:CET
END:STANDARD
END:VTIMEZONE
END:VCALENDAR