BEGIN:VCALENDAR
VERSION:2.0
PRODID:-//wp-events-plugin.com//7.2.3.1//EN
TZID:Europe/Rome
X-WR-TIMEZONE:Europe/Rome
BEGIN:VEVENT
UID:38198@lazioeventi.com
DTSTART;TZID=Europe/Rome;VALUE=DATE:20240103
DTEND;TZID=Europe/Rome;VALUE=DATE:20240105
DTSTAMP:20231228T083710Z
URL:https://lazioeventi.com/eventi/la-befana-a-cassino
SUMMARY:La Befana a Cassino - Cassino - 3 Gennaio 24 00:00
DESCRIPTION:A Cassino un Natale dedicato ai più piccoli\, ma che farà la 
 gioia anche dei più grandi: perché saper sognare e continuare a credere 
 in un Babbo Natale e una Befana che ci coccolano con i loro doni e la loro
  allegria\, significa tenere accesa la speranza e il sorriso. \n\nTutto co
 mincerà proprio dal rione Colosseo che il prossimo giovedì 21 dicembre s
 arà allietato dalla presenza di un meraviglioso Babbo Natale che insieme 
 agli elfi\, in un’atmosfera magica\, animerà il pomeriggio di tante fam
 iglie e bambini.\nPoi sabato 23 sarà la volta del centro: la nuova piazza
  Diamare ospiterà strani e colorati esseri fiabeschi che faranno giocare 
 e divertire tutti.\nA seguire il 27\, appuntamento a San Bartolomeo\npoi i
 l 3 gennaio Caira\nil 4 gennaio a Sant’Angelo e di nuovo ed infine il 6 
 in piazza Diamare\, quasi ad unire - in un unico percorso di fantasia - tu
 tti i bambini e le bambine che vorranno partecipare. \n\nQuesto e tanto al
 tro in programma per i prossimi giorni di festività: tra luci\, suoni\, c
 olori e giochi ci sarà spazio per la serenità e la magia\, quelle che so
 lo il Natale da sempre e con tutta la sua forza riesce a donare!
ATTACH;FMTTYPE=image/jpeg:https://lazioeventi.com/wp-content/uploads/2023/
 12/babbo_natale2023_cassino.jpg
CATEGORIES:Sport, Tempo Libero e Divertimento nel Lazio
LOCATION:Cassino\, Comune di Cassino\, Cassino\, Frosinone\, Lazio\, Italia
GEO:41.4929518;13.830372300000022
X-APPLE-STRUCTURED-LOCATION;VALUE=URI;X-ADDRESS=Comune di Cassino\, Cassino
 \, Frosinone\, Lazio\, Italia;X-APPLE-RADIUS=100;X-TITLE=Cassino:geo:41.49
 29518,13.830372300000022
END:VEVENT
BEGIN:VTIMEZONE
TZID:Europe/Rome
X-LIC-LOCATION:Europe/Rome
BEGIN:STANDARD
DTSTART:20231029T020000
TZOFFSETFROM:+0200
TZOFFSETTO:+0100
TZNAME:CET
END:STANDARD
END:VTIMEZONE
END:VCALENDAR