BEGIN:VCALENDAR
VERSION:2.0
PRODID:-//wp-events-plugin.com//7.2.3.1//EN
TZID:Europe/Rome
X-WR-TIMEZONE:Europe/Rome
BEGIN:VEVENT
UID:29690@lazioeventi.com
DTSTART;TZID=Europe/Rome:20240106T150000
DTEND;TZID=Europe/Rome:20240106T170000
DTSTAMP:20231211T104815Z
URL:https://lazioeventi.com/eventi/la-befana-al-castello
SUMMARY:La befana al Castello - Bracciano - 6 Gennaio 24 15:00
DESCRIPTION:E’ il mondo incantato dei castelli a fare spesso da cornice s
 uggestiva ai racconti\, esiste allora un modo migliore di intrattenere i b
 ambini con un evento speciale se non dentro un vero e proprio castello?\nG
 randi e piccini potranno vivere ed ascoltare una magica leggenda raccontat
 a dalla Befana con l'aiuto di personaggi e pupazzi\, un viaggio in un mond
 o parallelo fatto di sensazioni\, suoni\, musica e parole.\n\nPosti limita
 ti\, prenotazione obbligatoria su info@teatrohelios.it\n\nindicare numero 
 biglietti \, orario e lasciare un recapito telefonico\, verrete contattati
  dalla segreteria .\n\nbiglietto 18 euro a persona ( bimbi 0-3 anni non co
 mpiuti gratuito) incluso ingresso al Museo del Castello con guida.
ATTACH;FMTTYPE=image/jpeg:https://lazioeventi.com/wp-content/uploads/2022/
 01/befana-castello.jpg
CATEGORIES:Musica, Spettacoli e Danza nel Lazio
LOCATION:Bracciano\, Comune di Bracciano\, Bracciano\, Roma\, Lazio\, Itali
 a
GEO:42.1036;12.1756
X-APPLE-STRUCTURED-LOCATION;VALUE=URI;X-ADDRESS=Comune di Bracciano\, Bracc
 iano\, Roma\, Lazio\, Italia;X-APPLE-RADIUS=100;X-TITLE=Bracciano:geo:42.1
 036,12.1756
END:VEVENT
BEGIN:VTIMEZONE
TZID:Europe/Rome
X-LIC-LOCATION:Europe/Rome
BEGIN:STANDARD
DTSTART:20231029T020000
TZOFFSETFROM:+0200
TZOFFSETTO:+0100
TZNAME:CET
END:STANDARD
END:VTIMEZONE
END:VCALENDAR