BEGIN:VCALENDAR
VERSION:2.0
PRODID:-//wp-events-plugin.com//7.2.3.1//EN
TZID:Europe/Rome
X-WR-TIMEZONE:Europe/Rome
BEGIN:VEVENT
UID:35015@lazioeventi.com
DTSTART;TZID=Europe/Rome;VALUE=DATE:20230412
DTEND;TZID=Europe/Rome;VALUE=DATE:20230420
DTSTAMP:20230411T105804Z
URL:https://lazioeventi.com/eventi/la-bellezza-dellessere-e-quella-femmini
 le-nelle-sfumature-dellarte
SUMMARY:La bellezza dell'essere e quella femminile nelle sfumature dell'art
 e - Roma - 12 Aprile 23 00:00
DESCRIPTION:La bellezza dell'essere e quella femminile nelle sfumature dell
 'arte. In mostra alla Galleria La Pigna le opere di Patrizia Reali e di Ma
 rio Russo. Madrina l'attrice Adriana Russo.\n\ndal 12 al 19 aprile 2023 Ro
 ma\n\nLa bellezza dell'essere e quella femminile in tutte le sue sfumature
 . Questo il tema della doppia mostra firmata da due grandi artisti come Pa
 trizia Reali e Mario Russo\, che si terrà dal 12 al 19 aprile 2023 presso
  la Galleria La Pigna\, nel prestigioso Palazzo Pontificio Maffei Mariscot
 ti in via della Pigna a Roma. Il curatore Alfio Borghese ha scelto di unir
 e in un unico viaggio L'Essenza nell'essere di Patrizia Reali e Le donne d
 i Mario Russo\, il pittore partenopeo che ha legato la sua intera esistenz
 a ad un percorso artistico fatto di emozioni e colori.\n\nUomo di grande s
 pessore e padre amatissimo dell'attrice Adriana Russo\, che  sarà presen
 te all'inaugurazione anche con una bellissima opera che la rappresenta. Ap
 passionato dell’arte in tutte  le sue forme il pittore\, che nasce a Na
 poli nel 1925 e negli anni ’50 si trasferisce a Roma per poi girare il m
 ondo intero con le sue opere (nel 1997\, per esempio\,  è stato invitato
  a New York per una mostra personale al J.F.Kennedy Airport e nel 1998 al 
 Palazzo Ducale di Mantova ha luogo una sua mostra denominata “Omaggio a 
 Fellini”) sarà rappresentato con alcuni suoi meravigliosi lavori che ri
 traggono l'universo femminile\, raccontato attraverso una serie di ritratt
 i dedicati a dive dello spettacolo come "Anna Magnani\, ma anche alle donn
 e che lo hanno colpito ed affascinato nella vita quotidiana e alle quali h
 a dedicato uno studio preciso e costante per esaltare la bellezza della fi
 gura umana.\n\nL'accesso alla mostra. dalle 10 alle 13 e dalle 16 alle 19\
 , sarà ad ingresso libero.\n\nInfo www.gallerialapigna.net
ATTACH;FMTTYPE=image/jpeg:https://lazioeventi.com/wp-content/uploads/2023/
 04/Mario_RUSSO-30.jpg
CATEGORIES:Arte e Cultura nel Lazio
LOCATION:Roma\, Via Leopardi\, Roma\, Roma\, Lazio\, Italia
GEO:41.8942;12.5017
X-APPLE-STRUCTURED-LOCATION;VALUE=URI;X-ADDRESS=Via Leopardi\, Roma\, Roma\
 , Lazio\, Italia;X-APPLE-RADIUS=100;X-TITLE=Roma:geo:41.8942,12.5017
END:VEVENT
BEGIN:VTIMEZONE
TZID:Europe/Rome
X-LIC-LOCATION:Europe/Rome
BEGIN:DAYLIGHT
DTSTART:20230326T030000
TZOFFSETFROM:+0100
TZOFFSETTO:+0200
TZNAME:CEST
END:DAYLIGHT
END:VTIMEZONE
END:VCALENDAR