BEGIN:VCALENDAR
VERSION:2.0
PRODID:-//wp-events-plugin.com//7.2.3.1//EN
TZID:Europe/Rome
X-WR-TIMEZONE:Europe/Rome
BEGIN:VEVENT
UID:30356@lazioeventi.com
DTSTART;TZID=Europe/Rome:20220429T210000
DTEND;TZID=Europe/Rome:20220429T230000
DTSTAMP:20220405T085348Z
URL:https://lazioeventi.com/eventi/la-buona-novella-di-de-andre
SUMMARY:La buona novella di De André - Velletri - 29 Aprile 22 21:00
DESCRIPTION:Venerdì 29 Aprile....per la prima volta sul palco del Teatro A
 rtemisio "Gian Maria Volonté"....\n\nI Big Cedars e Il Testamento di Fabe
 r - Tributo a Fabrizio De André presentano...\n\nLA BUONA NOVELLA di Fabr
 izio De André....\n\nCon incursioni poetiche della straordinaria Marica M
 astromarino su testi di Aurelio Picca e William Shakespeare....con la supe
 rvisione registica di Emanuela Bauco.\n\nBiglietti in vendita on line su h
 ttps://www.vivaticket.com\n\nE direttamente a IL BIGLIETTO VELLETRI o da D
 rin Service - Agenzia di Servizi
ATTACH;FMTTYPE=image/jpeg:https://lazioeventi.com/wp-content/uploads/2022/
 04/buona-novella.jpg
CATEGORIES:Musica, Spettacoli e Danza nel Lazio
LOCATION:Velletri\, Comune\, Velletri\, Roma\, Lazio\, Italia
GEO:41.6865;12.7776
X-APPLE-STRUCTURED-LOCATION;VALUE=URI;X-ADDRESS=Comune\, Velletri\, Roma\, 
 Lazio\, Italia;X-APPLE-RADIUS=100;X-TITLE=Velletri:geo:41.6865,12.7776
END:VEVENT
BEGIN:VTIMEZONE
TZID:Europe/Rome
X-LIC-LOCATION:Europe/Rome
BEGIN:DAYLIGHT
DTSTART:20220327T030000
TZOFFSETFROM:+0100
TZOFFSETTO:+0200
TZNAME:CEST
END:DAYLIGHT
END:VTIMEZONE
END:VCALENDAR