BEGIN:VCALENDAR
VERSION:2.0
PRODID:-//wp-events-plugin.com//7.2.3.1//EN
TZID:Europe/Rome
X-WR-TIMEZONE:Europe/Rome
BEGIN:VEVENT
UID:39610@lazioeventi.com
DTSTART;TZID=Europe/Rome:20240727T194500
DTEND;TZID=Europe/Rome:20240727T210000
DTSTAMP:20240715T155846Z
URL:https://lazioeventi.com/eventi/la-casa-dei-cavalieri-di-rodi-al-foro-d
 i-augusto-apertura-straordinaria
SUMMARY:La Casa dei Cavalieri di Rodi al Foro di Augusto. Apertura Straordi
 naria - Roma - 27 Luglio 24 19:45
DESCRIPTION:Una visita guidata con apertura straordinaria alla scenografica
  Casa dei Cavalieri di Rodi\, sorta secoli fa sui resti dell’antico Temp
 io di Marte nel Foro di Augusto. Partecipando alla nostra visita\, sarà p
 ossibile entrare finalmente all’interno di un luogo solitamente chiuso a
 l pubblico\, che custodisce gelosamente secoli di storia di Roma e conosce
 re così più da vicino il prestigioso ordine cavalleresco. Si visiteranno
  infatti la Chiesa di San Giovanni Battista\, il piano nobile con gli arre
 di d’epoca e gli importanti affreschi\, oltre ovviamente all’incantevo
 le loggia quattrocentesca che regala con il suo panorama un’emozione sen
 za fine! Impossibile non partecipare. Vi aspettiamo alla visita guidata al
 la Casa dei Cavalieri di Rodi!\n\nQuando: Sabato 27 Luglio alle ore 19:45\
 n\nAppuntamento in Piazza del Grillo n. 1\, all’ingresso della Casa\n\nC
 osti: € 12 a persona + biglietto di ingresso (intero €10\; ridotto €
 5). Prenotazione obbligatoria.\n\nInfo e prenotazioni: L’Asino d’Oro A
 ssociazione Culturale | 346 5920077 | info@lasinodoro.it
ATTACH;FMTTYPE=image/jpeg:https://lazioeventi.com/wp-content/uploads/2024/
 07/casa-cavalieri.jpg
CATEGORIES:Arte e Cultura nel Lazio
LOCATION:Roma\, Via Leopardi\, Roma\, Roma\, Lazio\, Italia
GEO:41.8942;12.5017
X-APPLE-STRUCTURED-LOCATION;VALUE=URI;X-ADDRESS=Via Leopardi\, Roma\, Roma\
 , Lazio\, Italia;X-APPLE-RADIUS=100;X-TITLE=Roma:geo:41.8942,12.5017
END:VEVENT
BEGIN:VTIMEZONE
TZID:Europe/Rome
X-LIC-LOCATION:Europe/Rome
BEGIN:DAYLIGHT
DTSTART:20240331T030000
TZOFFSETFROM:+0100
TZOFFSETTO:+0200
TZNAME:CEST
END:DAYLIGHT
END:VTIMEZONE
END:VCALENDAR