BEGIN:VCALENDAR
VERSION:2.0
PRODID:-//wp-events-plugin.com//7.2.3.1//EN
TZID:Europe/Rome
X-WR-TIMEZONE:Europe/Rome
BEGIN:VEVENT
UID:39214@lazioeventi.com
DTSTART;TZID=Europe/Rome:20240606T110000
DTEND;TZID=Europe/Rome:20240730T120000
DTSTAMP:20240521T121321Z
URL:https://lazioeventi.com/eventi/la-casa-del-poeta
SUMMARY:La Casa del Poeta - Roma - 6 Giugno 24 11:00
DESCRIPTION:Dal 6 giugno la splendida cornice di Palazzo Brancaccio accogli
 e una considerevole produzione dell’artista marchigiano Silvio Natali ch
 e sarà visitabile fino al 30 luglio 2024. La mostra dal significativo tit
 olo La casa del Poeta segna il ritorno dell’artista nella Capitale con u
 n’esposizione basata sulla sua peculiare espressività in cui paesaggi e
  forme esprimono la sua carica energica.  \n\nCreazioni pittoriche come 
 mezzo incisivo di forme idilliache tra cui l’opera che dà il titolo all
 a mostra. Silvio Natali trasforma eventi\, storie\, emozioni in esperienze
  espressive straordinarie\, opere attraverso le quali l’autore manifesta
  l’attimo effimero in cui fissa nei pensieri situazioni e immagini che d
 iventano visive espressioni poetiche.  \n\nUna mostra\, dunque\, che rac
 chiude in sintesi il suo percorso artistico orientato ad una correlazione 
 tra rappresentazione e poesia in cui l’artista affronta anche tematiche 
 vicine ad ognuno di noi\, come ad esempio ben rappresentato nelle opere Sc
 ena muta e In Ansiosa attesa. \n\nSilvio Natali nasce a Corridonia (MC) n
 el 1943\, dove vive ed opera. Laureato in Medicina e Chirurgia\, si è ded
 icato all'attività artistica da autodidatta\, appassionandosi prima quasi
  esclusivamente al disegno e poi con interesse crescente alla pittura\, es
 primendosi in una maniera personalissima che lo ha presto imposto all'atte
 nzione degli esperti del settore\, facendogli anche ottenere numerosi prem
 i e riconoscimenti. Presente in prestigiosi cataloghi d'arte\, le sue oper
 e sono custodite in numerose collezioni pubbliche e private. \n\nDurante 
 la presentazione sarà proiettato un video\, omaggio sonoro site specific\
 , realizzato dal compositore statunitense Alex Wurman. \n\n \n\nSILVIO N
 ATALI \nLa Casa Del Poeta \nSpazio Field | Palazzo Brancaccio \nVia Mer
 ulana 248 - Roma \nDal 6 giugno al 30 luglio 2024 \nInaugurazione gioved
 ì 6 giugno ore 17:00 \nIngresso libero su appuntamento dal lunedì al sa
 bato dalle 11.00 alle 18.00 \nInfo: Arte Borgo Gallery 345-22.28.110  i
 nfo@arteborgo.it 
ATTACH;FMTTYPE=image/jpeg:https://lazioeventi.com/wp-content/uploads/2024/
 05/Screenshot-2024-05-21-alle-11.27.03-1.jpg
CATEGORIES:Arte e Cultura nel Lazio
LOCATION:Roma\, Via Leopardi\, Roma\, Roma\, Lazio\, Italia
GEO:41.8942;12.5017
X-APPLE-STRUCTURED-LOCATION;VALUE=URI;X-ADDRESS=Via Leopardi\, Roma\, Roma\
 , Lazio\, Italia;X-APPLE-RADIUS=100;X-TITLE=Roma:geo:41.8942,12.5017
END:VEVENT
BEGIN:VTIMEZONE
TZID:Europe/Rome
X-LIC-LOCATION:Europe/Rome
BEGIN:DAYLIGHT
DTSTART:20240331T030000
TZOFFSETFROM:+0100
TZOFFSETTO:+0200
TZNAME:CEST
END:DAYLIGHT
END:VTIMEZONE
END:VCALENDAR