BEGIN:VCALENDAR
VERSION:2.0
PRODID:-//wp-events-plugin.com//7.2.3.1//EN
TZID:Europe/Rome
X-WR-TIMEZONE:Europe/Rome
BEGIN:VEVENT
UID:29953@lazioeventi.com
DTSTART;TZID=Europe/Rome:20240323T090000
DTEND;TZID=Europe/Rome:20240609T190000
DTSTAMP:20240322T174508Z
URL:https://lazioeventi.com/eventi/la-casa-delle-farfalle
SUMMARY:La Casa delle Farfalle - Roma - 23 Marzo 24 09:00
DESCRIPTION:Dal 23 marzo al 9 giugno 2024 riapre a Roma la Casa delle Far
 falle.\n\nUn’occasione curiosa per osservare da vicino diverse specie di
  farfalle rare e tropicali dai colori più disparati ma anche crisali
 di\, millepiedi e molti altri insetti e seguirne il ciclo vitale nel loro
  habitat naturale.\n\nLa Casa delle Farfalle di Roma è una iniziativa d
 ella associazione culturale Imago che si propone di far conoscere il grand
 e valore e l’importanza di rispettare la natura\, che influenza la nostr
 a vita molto di più di quello che pensiamo.\n\nIn particolare le farfall
 e sono degli indicatori ecologici\, che\, con la loro presenza o assenza\
 , indicano lo stato di salute dell’ambiente\,\nL’Associazione si pone 
 come obiettivo quello di comunicare questo importante concetto sensibilizz
 ando grandi e piccoli.\n\nIn programma anche tante attività e animazio
 ne per bambini.\n\nLa Casa delle Farfalle di Roma è immersa nel verde e s
 i trova a pochi passi dall’Appia Antica.\nArea picnic e parcheggio inter
 no.\n\nINFO e COSTI\nPREZZI GIORNALIERI\n€ 9\,00 euro Adulti\n€ 6\,00 
 euro ridotto bimbi dai 4 ai 12 anni\n€ 6\,00 euro ridotto disabili/accom
 pagnatore\n\nBIGLIETTO OPEN\n€ 10\,00 euro Adulti\n€ 7\,00 euro ridott
 o bimbi dai 4 ai 12 anni\n\nIl biglietto OPEN consente l’accesso in una 
 data a scelta durante tutta la durata della manifestazione\n\nSabato\, dom
 enica e festivi: Truccabimbi: € 5\,00\nLaboratori: € 5\,00
ATTACH;FMTTYPE=image/jpeg:https://lazioeventi.com/wp-content/uploads/2022/
 03/CDF_COP-SITOWEB-2024.jpg
CATEGORIES:Sport, Tempo Libero e Divertimento nel Lazio
LOCATION:Roma\, Via Leopardi\, Roma\, Roma\, Lazio\, Italia
GEO:41.8942;12.5017
X-APPLE-STRUCTURED-LOCATION;VALUE=URI;X-ADDRESS=Via Leopardi\, Roma\, Roma\
 , Lazio\, Italia;X-APPLE-RADIUS=100;X-TITLE=Roma:geo:41.8942,12.5017
END:VEVENT
BEGIN:VTIMEZONE
TZID:Europe/Rome
X-LIC-LOCATION:Europe/Rome
BEGIN:STANDARD
DTSTART:20231029T020000
TZOFFSETFROM:+0200
TZOFFSETTO:+0100
TZNAME:CET
END:STANDARD
BEGIN:DAYLIGHT
DTSTART:20240331T030000
TZOFFSETFROM:+0100
TZOFFSETTO:+0200
TZNAME:CEST
END:DAYLIGHT
END:VTIMEZONE
END:VCALENDAR