BEGIN:VCALENDAR
VERSION:2.0
PRODID:-//wp-events-plugin.com//7.2.3.1//EN
TZID:Europe/Rome
X-WR-TIMEZONE:Europe/Rome
BEGIN:VEVENT
UID:33941@lazioeventi.com
DTSTART;TZID=Europe/Rome:20230216T170000
DTEND;TZID=Europe/Rome:20230216T183000
DTSTAMP:20230130T105752Z
URL:https://lazioeventi.com/eventi/la-ci-darem-la-mano
SUMMARY:Là ci darem la mano - Roma - 16 Febbraio 23 17:00
DESCRIPTION:Musica vocale operistica tra Pergolesi e Mozart\n\nWorkshop mus
 icale\n\nInvito all’ascolto di Arie e duetti tratti da intermezzi\, oper
 e buffe e singspiel tra Pergolesi e Mozart e  presentati da Manrico Maria 
 Colazza           \n\nIntervengono:\nDaniela Di Veroli\, soprano\nAlfredo 
 Totti\, basso-baritono\nMarina Ciubotaru\, pianoforte\n\nIngresso libero f
 ino a esaurimento posti.\n\nPer Info: 0645460621 oppure ill.villaleopardi@
 bibliotechediroma.it\n\n
ATTACH;FMTTYPE=image/jpeg:https://lazioeventi.com/wp-content/uploads/2023/
 01/640px-Giovanni_Battista_Pergolesi.jpg
CATEGORIES:Arte e Cultura nel Lazio
LOCATION:Roma\, Via Leopardi\, Roma\, Roma\, Lazio\, Italia
GEO:41.8942;12.5017
X-APPLE-STRUCTURED-LOCATION;VALUE=URI;X-ADDRESS=Via Leopardi\, Roma\, Roma\
 , Lazio\, Italia;X-APPLE-RADIUS=100;X-TITLE=Roma:geo:41.8942,12.5017
END:VEVENT
BEGIN:VTIMEZONE
TZID:Europe/Rome
X-LIC-LOCATION:Europe/Rome
BEGIN:STANDARD
DTSTART:20221030T020000
TZOFFSETFROM:+0200
TZOFFSETTO:+0100
TZNAME:CET
END:STANDARD
END:VTIMEZONE
END:VCALENDAR