BEGIN:VCALENDAR
VERSION:2.0
PRODID:-//wp-events-plugin.com//7.2.3.1//EN
TZID:Europe/Rome
X-WR-TIMEZONE:Europe/Rome
BEGIN:VEVENT
UID:30293@lazioeventi.com
DTSTART;TZID=Europe/Rome:20220330T100000
DTEND;TZID=Europe/Rome:20220626T190000
DTSTAMP:20220331T055216Z
URL:https://lazioeventi.com/eventi/la-commedia-dalla-creazione-alla-ricezi
 one
SUMMARY:La Commedia dalla Creazione alla Ricezione - Roma - 30 Marzo 22 10:
 00
DESCRIPTION:La Ricezione della Commedia dai Manoscritti ai Media.\nÈ indub
 bio che la Divina commedia sia uno dei testi più conosciuti al mondo. Ma 
 come è arrivata sino a noi? Quali cambiamenti\, revisioni\, illustrazioni
  ha avuto nel corso dei secoli? Come è stata accolta nel passato\, stampa
 ta\, amata\, letta o studiata? E quali sono state le arti\, gli oggetti\, 
 i pensieri influenzati dal capolavoro di Dante? A fornire una risposta a t
 utto questo ci pensa la mostra La ricezione della Commedia dai manoscritti
  ai media (a cura di Roberto Antonelli\, Ebe Antetomaso\, Silvia De Santis
 \, Marco Guardo\, Luca Serianni) che in un exursus nei secoli tra codici p
 regiati in arrivo da tutto il mondo ricostruirà\, in un percorso narrativ
 o affascinante\, le vicissitudini del poema dell'Alighieri. A cominciare d
 al più autorevole e vicino all'Originale\, l'Urbinate latino 366\, fino a
  quelli che più hanno inciso sulla tradizione letteraria italiana\, da Bo
 ccaccio a Bembo a Foscolo per arrivare ai media e mostrare così la storia
  della fortuna del poema.\n\nCon gli occhi di Dante. L'Italia artistica ne
 ll'età della Commedia\nSono numerosi i riferimenti all'arte che Dante ins
 erisce nei suoi scritti\, dalla Divina Commedia alla Vita Nuova. E per ave
 re contezza di quanto tutto ciò sia vero\, arriva la mostra Con gli occhi
  di Dante. L'Italia artistica nell'età della Commedia (a cura di Maria Lu
 isa Meneghetti e Alessio Monciatti) che condurrà il visitatore nel mondo 
 artistico di Dante\, potendo vedere le opere che gli erano familiari. Acca
 nto alle riproduzioni di manufatti celeberrimi e inamovibili\, saranno esp
 oste le opere che hanno colpito la fantasia del Poeta: dal Satana a tre te
 ste dell'affresco staccato dalla cappella vescovile di Treviso alla tavola
  della Madonna col Bambino di Castelfiorentino (possibile frutto della col
 laborazione tra Cimabue e Giotto)\, che segna il passaggio tra due stili p
 ittorici che Dante aveva ben chiari in mente\, o ancora a sculture lignee 
 e marmoree che lasciano un'eco visibile nelle sue pagine.\n\nIl visitatore
  inoltre potrà\, grazie al docufilm Le vie di Dante. L'Italia artistica a
 l tempo della Commedia (scritto da Roberto Antonelli e Lorenzo Mainini con
  la regia di Maria Teresa de Vito e curato da Renato Parascandolo)\, riatt
 raversare tutti i luoghi principali della biografia dantesca\, alla ricerc
 a di quelle immagini che il poeta\, nei suoi viaggi\, avrà potuto vedere\
 , trattenere nella memoria e poi rievocare nei suoi scritti.\n\nL'esposizi
 one è aperta fino al 25 giugno presso l'Auditorio di Villa Farnesina (via
  della Lungara 230\, Roma) dal martedì alla domenica ore 10 – 19\;
ATTACH;FMTTYPE=image/jpeg:https://lazioeventi.com/wp-content/uploads/2022/
 03/commedia-creazione.jpg
CATEGORIES:Arte e Cultura nel Lazio
LOCATION:Roma\, Via Leopardi\, Roma\, Roma\, Lazio\, Italia
GEO:41.8942;12.5017
X-APPLE-STRUCTURED-LOCATION;VALUE=URI;X-ADDRESS=Via Leopardi\, Roma\, Roma\
 , Lazio\, Italia;X-APPLE-RADIUS=100;X-TITLE=Roma:geo:41.8942,12.5017
END:VEVENT
BEGIN:VTIMEZONE
TZID:Europe/Rome
X-LIC-LOCATION:Europe/Rome
BEGIN:DAYLIGHT
DTSTART:20220327T030000
TZOFFSETFROM:+0100
TZOFFSETTO:+0200
TZNAME:CEST
END:DAYLIGHT
END:VTIMEZONE
END:VCALENDAR