BEGIN:VCALENDAR
VERSION:2.0
PRODID:-//wp-events-plugin.com//7.2.3.1//EN
TZID:Europe/Rome
X-WR-TIMEZONE:Europe/Rome
BEGIN:VEVENT
UID:43598@lazioeventi.com
DTSTART;TZID=Europe/Rome:20260125T180000
DTEND;TZID=Europe/Rome:20260125T200000
DTSTAMP:20260122T081101Z
URL:https://lazioeventi.com/eventi/la-compagnia-della-farsa-apre-in-perife
 ria-a-roma
SUMMARY:La Compagnia della Farsa apre in periferia a Roma - Roma - 25 Genna
 io 26 18:00
DESCRIPTION:Nella periferia di Roma nasce uno dei teatri più piccoli d’I
 talia. La Compagnia della Farsa trasforma un ex' falegnameria in uno spazi
 o di 30 posti. Al via la prima stagione teatrale.\n\ndal 25 gennaio 2026\n
 \nDal profumo del legno al calore della scena.\n\nNasce nella periferia ro
 mana\, esattamente nel quartiere Alessandrino\, uno dei più piccoli teatr
 i d’Italia\, ricavato da una storica falegnameria.\n\nDalla pialla alla 
 parola\, l’arte che cambia forma restando comunque una impresa artigiana
 le.\n\nLa metamorfosi creativa è stata resa possibile dalla Compagnia del
 la Farsa\, composta dal duo Luca Pennacchioni e Claudia Spedaliere\, che h
 a deciso di dare vita alla propria “fabbrica dei sogni” con il coraggi
 o\, la passione\, le proprie risorse e la giusta dose di manualità e inge
 gno.\n\nCaratteristiche che hanno permesso ai due artisti\, anche fondator
 i e direttori artistici\, di costruire\, giorno dopo giorno\, un moderno g
 ioiello\, “Il Piccolo Teatro di Prova”\, dotato di ogni comodità: cli
 matizzazione\, buona acustica e sedute comode\, il tutto con lo scopo di d
 onare allo spettatore una vicinanza con l'attore che solo i teatri cosidde
 tti off di New York o Londra riescono ad offrire.\n\nPennacchioni e Spedal
 iere ovviamente non sfidano i giganti\, ma intendono mantenere accesa la v
 oglia di cultura\, condivisione\, estro\, che resiste oltre ogni schermo d
 igitale e che dal palcoscenico dispensa emozioni.\n\nUn luogo magico\, in 
 via del Campo 16 c\, dove far rifiorire la bellezza di una relazione reale
  e dove ascoltare il respiro dell’attore.\n\nOgni messa in scena diventa
  esclusiva\, con la poesia di un teatro “fatto a mano”\, che diventa a
 nche un laboratorio e un riferimento per il quartiere\, per un pubblico tr
 asversale.\n\nUna testimonianza sana e genuina che dimostra quanto la cult
 ura non abbia necessità di spazi enormi ma di professionisti e radici pro
 fonde.\n\nUna scommessa che\, per la prima volta\, prevede una stagione ve
 ra a propria\, intitolata “Comici..al Piccolo”\, pronta a partire il 2
 5 gennaio 2026 con un monologo dell’amato comico romano Claudio Sciara\,
  noto per la sua ironia originale e molto apprezzata anche nel programma t
 v “Italia’s Got Talent”\, che porterà in scena lo spettacolo “50 
 e giù”. Il 6\, 7\, 8 Febbraio\, in scena “Casa Farsa” con la Compag
 nia della Farsa\, Claudia Spedaliere e Luca Pennacchioni\, con la partecip
 azione di Salvatore Mazza.\n\nUno spettacolo ispirato alla comicità itali
 ana in televisione e a teatro\, con gag e personaggi indimenticabili.\n\nI
 l 22 Febbraio sarà la volta di “Giusto a metà” con Marina Vitolo e a
 l pianoforte Rocco Donati.\n\nTeatro e musica dal vivo si incontrano in un
 o spettacolo leggero e poetico\, capace di emozionare il pubblico. Il 27\,
  28\, 29 Marzo sul palco “Mazza\, amore e fantasia” con Salvatore Mazz
 a nelle avventure di un napoletano trasferitosi a Roma per lavoro\, che so
 gna di fare l’attore e affronta con ironia i paradossi della grande citt
 à.\n\nIl 17 aprile sarà la volta di “Stanno in mezzo a noi” con Marc
 o Capretti\, noto comico del programma “Made in Sud” che porta sul pal
 co 90 puntate inedite condensate in 90 minuti di risate e riflessioni\, an
 alizzando vizi e virtù della vita quotidiana\, dai rapporti di coppia all
 e mode e alle assurdità del web\, con i suoi personaggi più celebri. Cap
 retti è anche conduttore di Non era TV (Prime Video\, 2024)\, Casa Sanrem
 o e protagonista del film “Mamma qui comando” (2023).\n\nIl 19 aprile 
 saranno ospiti Giorgio Gori con Achiropita Dalila Bosco in “What Woman
 …no Want”\, che promette un pieno di risate ed energia in una parodia 
 del noto film “What Women Want”\, dove ci si interroga sull’universo
  femminile\, mentre l’ultimo spettacolo prevede il gran finale con Enzo 
 Casertano e Alessandra Merico in “Game Lover”. Una commedia sui rappor
 ti di coppia tra ironia e gag\, interpretata da due attori capaci di mixar
 e comicità e sensibilità.\n\nCasertano è attore di teatro\, cinema e te
 levisione\, con una carriera lunga e versatile: ha partecipato a numerosi 
 film italiani e a serie TV di grande successo.\n\nLa stagione "Comici al P
 iccolo" è un’occasione unica per vivere la comicità italiana di talent
 o in un ambiente intimo ed elegante\, dove si può davvero vedere l’atto
 re da vicino e sentire la magia del teatro...un po' come trovarsi a casa p
 ropria.\n\nOrari spettacoli domenica ore 18.00 e venerdì e sabato ore 21.
 00.\n\nInformazioni e prenotazioni: 328 127 8975 . Piccolo Teatro di Prova
  – Via del Campo 16C\, Roma
ATTACH;FMTTYPE=image/jpeg:https://lazioeventi.com/wp-content/uploads/2026/
 01/foto-farsa-teatro-2.jpg
CATEGORIES:Musica, Spettacoli e Danza nel Lazio
LOCATION:Roma\, Via Leopardi\, Roma\, Roma\, Lazio\, Italia
GEO:41.8942;12.5017
X-APPLE-STRUCTURED-LOCATION;VALUE=URI;X-ADDRESS=Via Leopardi\, Roma\, Roma\
 , Lazio\, Italia;X-APPLE-RADIUS=100;X-TITLE=Roma:geo:41.8942,12.5017
END:VEVENT
BEGIN:VTIMEZONE
TZID:Europe/Rome
X-LIC-LOCATION:Europe/Rome
BEGIN:STANDARD
DTSTART:20251026T020000
TZOFFSETFROM:+0200
TZOFFSETTO:+0100
TZNAME:CET
END:STANDARD
END:VTIMEZONE
END:VCALENDAR