BEGIN:VCALENDAR
VERSION:2.0
PRODID:-//wp-events-plugin.com//7.2.3.1//EN
TZID:Europe/Rome
X-WR-TIMEZONE:Europe/Rome
BEGIN:VEVENT
UID:27657@lazioeventi.com
DTSTART;TZID=Europe/Rome:20200925T200000
DTEND;TZID=Europe/Rome:20200925T223000
DTSTAMP:20200911T061119Z
URL:https://lazioeventi.com/eventi/la-cultura-al-centro-2020-09-25
SUMMARY:La Cultura al Centro - Viterbo - 25 Settembre 20 20:00
DESCRIPTION:Dieci appuntamenti artistici di teatro e musica a Viterbo\, nel
  quartiere medioevale di San Pellegrino: dal 19 settembre al 24 ottobre 
 “La Cultura al Centro“ direzione artistica Francesco Cerra. Un progett
 o nato da un’idea del Circolo Culturale 
ATTACH;FMTTYPE=image/jpeg:https://lazioeventi.com/wp-content/uploads/2020/
 09/cultura-al-centro.jpg
CATEGORIES:Musica, Spettacoli e Danza nel Lazio
LOCATION:Viterbo\, Comune\, Viterbo\, Viterbo\, Lazio\, Italia
GEO:42.417;12.1051
X-APPLE-STRUCTURED-LOCATION;VALUE=URI;X-ADDRESS=Comune\, Viterbo\, Viterbo\
 , Lazio\, Italia;X-APPLE-RADIUS=100;X-TITLE=Viterbo:geo:42.417,12.1051
END:VEVENT
BEGIN:VTIMEZONE
TZID:Europe/Rome
X-LIC-LOCATION:Europe/Rome
BEGIN:DAYLIGHT
DTSTART:20200329T030000
TZOFFSETFROM:+0100
TZOFFSETTO:+0200
TZNAME:CEST
END:DAYLIGHT
END:VTIMEZONE
END:VCALENDAR