BEGIN:VCALENDAR
VERSION:2.0
PRODID:-//wp-events-plugin.com//7.2.3.1//EN
TZID:Europe/Rome
X-WR-TIMEZONE:Europe/Rome
BEGIN:VEVENT
UID:35914@lazioeventi.com
DTSTART;TZID=Europe/Rome:20230622T203000
DTEND;TZID=Europe/Rome:20230622T223000
DTSTAMP:20230614T081652Z
URL:https://lazioeventi.com/eventi/la-dodicesima-notte
SUMMARY:La Dodicesima Notte - Formello - 22 Giugno 23 20:30
DESCRIPTION:L’Associazione Culturale “La Luminaria! presenta\, con il P
 atrocinio del Comune di Formello presenta al Teatro Velly E...STATE A FORM
 ELLO :\n– Mercoledì 7 giugno\, alle ore 20:30\, “Sala D’Attesa”\,
  con adattamento di Francesca Sacchetti e Regia di Maurizio Di Carmine.\n
 – Giovedì 22 giugno\, alle ore 20:30\, “La Dodicesima Notte” di Wil
 liam Shakespeare\, con adattamento e regia di Maurizio Di Carmine.\nDisegn
 o\, luci e fonica Ernesto Armati.
ATTACH;FMTTYPE=image/jpeg:https://lazioeventi.com/wp-content/uploads/2023/
 06/formello-sala-dattesa.jpg
CATEGORIES:Musica, Spettacoli e Danza nel Lazio
LOCATION:Formello\, Comune\, Formello\, Roma\, Lazio\, Italia
GEO:42.0801;12.4005
X-APPLE-STRUCTURED-LOCATION;VALUE=URI;X-ADDRESS=Comune\, Formello\, Roma\, 
 Lazio\, Italia;X-APPLE-RADIUS=100;X-TITLE=Formello:geo:42.0801,12.4005
END:VEVENT
BEGIN:VTIMEZONE
TZID:Europe/Rome
X-LIC-LOCATION:Europe/Rome
BEGIN:DAYLIGHT
DTSTART:20230326T030000
TZOFFSETFROM:+0100
TZOFFSETTO:+0200
TZNAME:CEST
END:DAYLIGHT
END:VTIMEZONE
END:VCALENDAR