BEGIN:VCALENDAR
VERSION:2.0
PRODID:-//wp-events-plugin.com//7.2.3.1//EN
TZID:Europe/Rome
X-WR-TIMEZONE:Europe/Rome
BEGIN:VEVENT
UID:32685@lazioeventi.com
DTSTART;TZID=Europe/Rome:20221016T110000
DTEND;TZID=Europe/Rome:20221016T123000
DTSTAMP:20221013T210952Z
URL:https://lazioeventi.com/eventi/la-domenica-a-rocca-colonna-2022-10-16
SUMMARY:La domenica a Rocca Colonna - Castelnuovo di Porto - 16 Ottobre 22 
 11:00
DESCRIPTION:Riprendono le visite tematiche alla Rocca Colonna!\n\nUna Rocca
  oggi più inclusiva e accessibile a tutti grazie al completo superamento 
 delle barriere architettoniche che con la realizzazione del nuovo ascensor
 e può garantire un accesso agevole e confortevole.\n\nIn aggiunta all’a
 ccoglienza e ai servizi culturali forniti ogni giorno dai ragazzi del Serv
 izio Civile Universale del progetto Beni Culturali - Rocca Colonna\, ogni 
 2 e 4 domenica del mese alla Rocca Colonna\, un ricco e interessante progr
 amma ci accompagnerà in questo autunno: racconteremo storie nuove e verra
 nno affrontati temi specifici che riguardano la vita e la storia del caste
 llo e del territorio circostante e non da ultimo si avrà la possibilità 
 di sperimentare una visita esperenziale che ci immergerà nell’atmosfera
  del castello!\nUn invito a tornare ogni mese per scoprire ogni volta altr
 i tesori e approfondire nuovi temi!!!!
ATTACH;FMTTYPE=image/jpeg:https://lazioeventi.com/wp-content/uploads/2022/
 10/domenica-rocca-colonna.jpg
CATEGORIES:Arte e Cultura nel Lazio
LOCATION:Castelnuovo di Porto\, Comune\, Castelnuovo di Porto\, Roma\, Lazi
 o\, Italia
GEO:42.1284;12.5013
X-APPLE-STRUCTURED-LOCATION;VALUE=URI;X-ADDRESS=Comune\, Castelnuovo di Por
 to\, Roma\, Lazio\, Italia;X-APPLE-RADIUS=100;X-TITLE=Castelnuovo di Porto
 :geo:42.1284,12.5013
END:VEVENT
BEGIN:VTIMEZONE
TZID:Europe/Rome
X-LIC-LOCATION:Europe/Rome
BEGIN:DAYLIGHT
DTSTART:20220327T030000
TZOFFSETFROM:+0100
TZOFFSETTO:+0200
TZNAME:CEST
END:DAYLIGHT
END:VTIMEZONE
END:VCALENDAR