BEGIN:VCALENDAR
VERSION:2.0
PRODID:-//wp-events-plugin.com//7.2.3.1//EN
TZID:Europe/Rome
X-WR-TIMEZONE:Europe/Rome
BEGIN:VEVENT
UID:32688@lazioeventi.com
DTSTART;TZID=Europe/Rome:20221127T110000
DTEND;TZID=Europe/Rome:20221127T123000
DTSTAMP:20221124T073607Z
URL:https://lazioeventi.com/eventi/la-domenica-a-rocca-colonna-2022-11-27
SUMMARY:La domenica a Rocca Colonna - Castelnuovo di Porto - 27 Novembre 22
  11:00
DESCRIPTION:Cristina di Svezia\, la regina che rinunciò al trono!\n\nVi as
 pettiamo domenica 27 novembre alla Rocca Colonna per raccontarvi la storia
  di una bambina divenuta regina\, di una giovane donna che abdica per segu
 ire la sua fede\, del suo soggiorno alla Rocca  di Castelnuovo di Porto. R
 ipercorreremo insieme i momenti salienti della sua vita rappresentanti e r
 accontati dal vivo. Un viaggio nel tempo\, immersivo e coinvolgente  nelle
  scelte che hanno cambiato la corte\, arricchito la storia e lasciato un s
 egno anche a Rocca Colonna. \n\nIl soggiorno a castelnuovo di Porto il 21 
 e 22 Novembre del 1668 della Regina Cristina di Svezia si rivela\, vieni a
  scoprirlo.
ATTACH;FMTTYPE=image/jpeg:https://lazioeventi.com/wp-content/uploads/2022/
 10/cristina-colonna.jpg
CATEGORIES:Arte e Cultura nel Lazio
LOCATION:Castelnuovo di Porto\, Comune\, Castelnuovo di Porto\, Roma\, Lazi
 o\, Italia
GEO:42.1284;12.5013
X-APPLE-STRUCTURED-LOCATION;VALUE=URI;X-ADDRESS=Comune\, Castelnuovo di Por
 to\, Roma\, Lazio\, Italia;X-APPLE-RADIUS=100;X-TITLE=Castelnuovo di Porto
 :geo:42.1284,12.5013
END:VEVENT
BEGIN:VTIMEZONE
TZID:Europe/Rome
X-LIC-LOCATION:Europe/Rome
BEGIN:STANDARD
DTSTART:20221030T020000
TZOFFSETFROM:+0200
TZOFFSETTO:+0100
TZNAME:CET
END:STANDARD
END:VTIMEZONE
END:VCALENDAR